BEGIN:VCALENDAR
VERSION:2.0
PRODID:-//BGSQD - ECPv6.15.20//NONSGML v1.0//EN
CALSCALE:GREGORIAN
METHOD:PUBLISH
X-ORIGINAL-URL:https://www.bgsqd.com
X-WR-CALDESC:Events for BGSQD
REFRESH-INTERVAL;VALUE=DURATION:PT1H
X-Robots-Tag:noindex
X-PUBLISHED-TTL:PT1H
BEGIN:VTIMEZONE
TZID:America/New_York
BEGIN:DAYLIGHT
TZOFFSETFROM:-0500
TZOFFSETTO:-0400
TZNAME:EDT
DTSTART:20150308T070000
END:DAYLIGHT
BEGIN:STANDARD
TZOFFSETFROM:-0400
TZOFFSETTO:-0500
TZNAME:EST
DTSTART:20151101T060000
END:STANDARD
BEGIN:DAYLIGHT
TZOFFSETFROM:-0500
TZOFFSETTO:-0400
TZNAME:EDT
DTSTART:20160313T070000
END:DAYLIGHT
BEGIN:STANDARD
TZOFFSETFROM:-0400
TZOFFSETTO:-0500
TZNAME:EST
DTSTART:20161106T060000
END:STANDARD
BEGIN:DAYLIGHT
TZOFFSETFROM:-0500
TZOFFSETTO:-0400
TZNAME:EDT
DTSTART:20170312T070000
END:DAYLIGHT
BEGIN:STANDARD
TZOFFSETFROM:-0400
TZOFFSETTO:-0500
TZNAME:EST
DTSTART:20171105T060000
END:STANDARD
END:VTIMEZONE
BEGIN:VEVENT
DTSTART;TZID=America/New_York:20160329T190000
DTEND;TZID=America/New_York:20160329T213000
DTSTAMP:20260424T225210
CREATED:20160320T163010Z
LAST-MODIFIED:20160320T163406Z
UID:5949-1459278000-1459287000@www.bgsqd.com
SUMMARY:Union Square Slam presents STEVEN WILLIS and *NEW SH*T* Slam (Open Slam 3.5)
DESCRIPTION:  \nWe are beyond thrilled to welcome Steven Willis to the Union Square Slam stage!!! And don’t miss our very last New Shit slam of the season!! \n6:00pm: Free Poetry Workshop with Sara Emily Kuntz\n7:00pm: Sign-ups\n7:30pm: Open Mic and Feature\n8:20pm: Poetry Slam \nAll Ages // $5 \nPlease note: the Bureau opens at 6 pm on Tuesdays for the Union Square Slam. \n  \nAbout our Feature: \nBorn and raised in Chicago Illinois\, 23 year old Steven Willis uses his creative writing background to poetically reflect on the pop culture issues of our time. With art heavily influenced by urban life and religion\, Steven mixes elements of hip hop and classic literature to help express his eclectic personal narrative. A recent graduate of Manhattanville College in Purchase\, Willis began doing spoken word at the age of 15 as a participant of Louder Than A Bomb and has performed on stages with the likes Jasmine Mans and Joshua Bennett. Steven was Louder Than A Bomb University’s 2014 Individual Champion\, is a contributing writer to the BreakBeat Poets Anthology and Manhattanville College’s Graffiti Magazine\, a member of Nuyorican Poetry Team 2015\, an Individual World Poetry Slam finalist and this past summer worked as assistant poetry writer for the film CoCo starring Jill Scott\, Common\, and Azelia Banks set to be released in Spring 2016. \nAbout our Slam: \n::NEW SHIT SLAMS:: \nNew Shit is defined as:\n– any piece of work that has not been heard on the USS mic.\n– any work that has been on the USS mic that has been overhauled/edited (at least 50% new material) \nWe will take up to 8 poets in each New Shit Slam. The points you earn will be added to your total in the quarter (1\,2 or 3) and help you in qualifying for that semifinal. Your participation in one New Shit slam\, regardless of placement/score\, meets your requirement for Final Stage Participation.\nAll slammers who are competing to represent Union Square Slam nationally in 2016 and beyond\, at either IWPS\, WOWPS\, or as part of the Union Square Slam Nationals Team\, MUST participate in BOTH a New Shit Slam and a Theme Slam at any point during the slam season. (9/14/15 – 4/28/15). You may compete in any or all of these slams\, whether or not you intend to go out for the team\, however\, preference may be given to competitors that have qualified for Semis or Finals. \n  \n  \n 
URL:https://www.bgsqd.com/event/uss-march-29/
LOCATION:NY
ATTACH;FMTTYPE=image/jpeg:https://www.bgsqd.com/wp-content/uploads/2016/03/USS-March-29.jpg
END:VEVENT
END:VCALENDAR