BEGIN:VCALENDAR
VERSION:2.0
PRODID:-//BGSQD - ECPv6.15.20//NONSGML v1.0//EN
CALSCALE:GREGORIAN
METHOD:PUBLISH
X-WR-CALNAME:BGSQD
X-ORIGINAL-URL:https://www.bgsqd.com
X-WR-CALDESC:Events for BGSQD
REFRESH-INTERVAL;VALUE=DURATION:PT1H
X-Robots-Tag:noindex
X-PUBLISHED-TTL:PT1H
BEGIN:VTIMEZONE
TZID:America/New_York
BEGIN:DAYLIGHT
TZOFFSETFROM:-0500
TZOFFSETTO:-0400
TZNAME:EDT
DTSTART:20150308T070000
END:DAYLIGHT
BEGIN:STANDARD
TZOFFSETFROM:-0400
TZOFFSETTO:-0500
TZNAME:EST
DTSTART:20151101T060000
END:STANDARD
BEGIN:DAYLIGHT
TZOFFSETFROM:-0500
TZOFFSETTO:-0400
TZNAME:EDT
DTSTART:20160313T070000
END:DAYLIGHT
BEGIN:STANDARD
TZOFFSETFROM:-0400
TZOFFSETTO:-0500
TZNAME:EST
DTSTART:20161106T060000
END:STANDARD
BEGIN:DAYLIGHT
TZOFFSETFROM:-0500
TZOFFSETTO:-0400
TZNAME:EDT
DTSTART:20170312T070000
END:DAYLIGHT
BEGIN:STANDARD
TZOFFSETFROM:-0400
TZOFFSETTO:-0500
TZNAME:EST
DTSTART:20171105T060000
END:STANDARD
END:VTIMEZONE
BEGIN:VEVENT
DTSTART;TZID=America/New_York:20160325T180000
DTEND;TZID=America/New_York:20160325T213000
DTSTAMP:20260424T075335
CREATED:20160307T161916Z
LAST-MODIFIED:20160406T181819Z
UID:5908-1458928800-1458941400@www.bgsqd.com
SUMMARY:Piss Elegant
DESCRIPTION:  \nSTH Editions and the Bureau Present: \nPiss Elegant \nArt & Artifacts from Straight To Hell Conspirators\nLuke Abby • Michael Alago • Brian Brennan (Latino Fan Club) • Matthew Burcaw • Walt Cessna • Christopher Clary • Wayne Coe • Thomas Dozol • Michael Economy • Greg Endries • Danny Fields • Ryan Foerester • Torrey Grobes • David Hurles (Old Reliable) • Erik Hanson • Charles Hovland • Steve LaFreniere • Patrick Lee • Yeni Mao • Bobby Miller • Slava Mogutin • Bob Nickas • Josh Olsen • Joe Ovelman • Christopher Schulz • Terry Smith • Daniel Trese • Anthony Viti • Jan Wandrag • Cornelius Washington • William Wood • Jimmy Wright • et autres \nCurated by Billy Miller\, editor of Straight To Hell. \nLive Performance @ 7:00 PM \nPiss Elegant will remain on view at the Bureau from Friday\, March 25\, through Sunday\, May 29\, 2016. \n  \nEvent image: Limited edition print from unique a 1960s Polaroid by Danny Fields \n  \n  \n  \n  \n 
URL:https://www.bgsqd.com/event/piss-elegant-2/
LOCATION:NY
ATTACH;FMTTYPE=image/jpeg:https://www.bgsqd.com/wp-content/uploads/2016/03/Danny-Fields.jpg
END:VEVENT
END:VCALENDAR