BEGIN:VCALENDAR
VERSION:2.0
PRODID:-//BGSQD - ECPv6.15.20//NONSGML v1.0//EN
CALSCALE:GREGORIAN
METHOD:PUBLISH
X-ORIGINAL-URL:https://www.bgsqd.com
X-WR-CALDESC:Events for BGSQD
REFRESH-INTERVAL;VALUE=DURATION:PT1H
X-Robots-Tag:noindex
X-PUBLISHED-TTL:PT1H
BEGIN:VTIMEZONE
TZID:America/New_York
BEGIN:DAYLIGHT
TZOFFSETFROM:-0500
TZOFFSETTO:-0400
TZNAME:EDT
DTSTART:20150308T070000
END:DAYLIGHT
BEGIN:STANDARD
TZOFFSETFROM:-0400
TZOFFSETTO:-0500
TZNAME:EST
DTSTART:20151101T060000
END:STANDARD
BEGIN:DAYLIGHT
TZOFFSETFROM:-0500
TZOFFSETTO:-0400
TZNAME:EDT
DTSTART:20160313T070000
END:DAYLIGHT
BEGIN:STANDARD
TZOFFSETFROM:-0400
TZOFFSETTO:-0500
TZNAME:EST
DTSTART:20161106T060000
END:STANDARD
BEGIN:DAYLIGHT
TZOFFSETFROM:-0500
TZOFFSETTO:-0400
TZNAME:EDT
DTSTART:20170312T070000
END:DAYLIGHT
BEGIN:STANDARD
TZOFFSETFROM:-0400
TZOFFSETTO:-0500
TZNAME:EST
DTSTART:20171105T060000
END:STANDARD
END:VTIMEZONE
BEGIN:VEVENT
DTSTART;TZID=America/New_York:20160323T190000
DTEND;TZID=America/New_York:20160323T213000
DTSTAMP:20260424T085444
CREATED:20160208T165137Z
LAST-MODIFIED:20160208T165137Z
UID:5828-1458759600-1458768600@www.bgsqd.com
SUMMARY:Beijing Comrades Launch Party
DESCRIPTION:  \nJoin The Feminist Press and translator Scott Myers to celebrate the first English translation of Beijing Comrades. Written pseudonymously and posted on the Internet in 1998\, Beijing Comrades by Bei Tong is among Mainland China’s earliest and most influential contemporary gay novels. It tells the story of Chen Handong and Lan Yu\, two men from very different social classes. Handong is a wealthy businessman in his late twenties\, the spoiled offspring of elite Communist Party officials with a string of male and female lovers. Lan Yu is a university student from a working-class background who has just arrived in Beijing. Naïve but by no means dim\, Lan Yu finds himself in Handong’s bed when he is alone in the capital and unable to make ends meet. \n  \nNarrated by Handong\, the story chronicles the joys\, hardships\, and no small amount of sexual bliss the men share as they navigate the uncharted terrain of a same-sex relationship at the end of the twentieth century in the People’s Republic of China. Beijing Comrades is a groundbreaking work in what has been called tongzhi or gay/queer fiction from the PRC. \n  \n  \n  \n 
URL:https://www.bgsqd.com/event/beijing-comrades-launch-party/
LOCATION:NY
ATTACH;FMTTYPE=image/jpeg:https://www.bgsqd.com/wp-content/uploads/2016/02/Beijing-Comrades-500.jpg
END:VEVENT
END:VCALENDAR