BEGIN:VCALENDAR
VERSION:2.0
PRODID:-//BGSQD - ECPv6.15.20//NONSGML v1.0//EN
CALSCALE:GREGORIAN
METHOD:PUBLISH
X-ORIGINAL-URL:https://www.bgsqd.com
X-WR-CALDESC:Events for BGSQD
REFRESH-INTERVAL;VALUE=DURATION:PT1H
X-Robots-Tag:noindex
X-PUBLISHED-TTL:PT1H
BEGIN:VTIMEZONE
TZID:America/New_York
BEGIN:DAYLIGHT
TZOFFSETFROM:-0500
TZOFFSETTO:-0400
TZNAME:EDT
DTSTART:20150308T070000
END:DAYLIGHT
BEGIN:STANDARD
TZOFFSETFROM:-0400
TZOFFSETTO:-0500
TZNAME:EST
DTSTART:20151101T060000
END:STANDARD
BEGIN:DAYLIGHT
TZOFFSETFROM:-0500
TZOFFSETTO:-0400
TZNAME:EDT
DTSTART:20160313T070000
END:DAYLIGHT
BEGIN:STANDARD
TZOFFSETFROM:-0400
TZOFFSETTO:-0500
TZNAME:EST
DTSTART:20161106T060000
END:STANDARD
BEGIN:DAYLIGHT
TZOFFSETFROM:-0500
TZOFFSETTO:-0400
TZNAME:EDT
DTSTART:20170312T070000
END:DAYLIGHT
BEGIN:STANDARD
TZOFFSETFROM:-0400
TZOFFSETTO:-0500
TZNAME:EST
DTSTART:20171105T060000
END:STANDARD
END:VTIMEZONE
BEGIN:VEVENT
DTSTART;TZID=America/New_York:20160322T190000
DTEND;TZID=America/New_York:20160322T213000
DTSTAMP:20260424T102400
CREATED:20160314T161340Z
LAST-MODIFIED:20160319T202117Z
UID:5924-1458673200-1458682200@www.bgsqd.com
SUMMARY:Union Square Slam presents EBONI HOGAN and Open Slam 3.4
DESCRIPTION:WOOOOOOOO YOU KNOW WHAT? EBONI HOGAN\, THAT’S WHAT!!! Come on out and get your life!! \n6pm: Free Poetry Workshop with Sara Emily Kuntz\n7pm: SIgn-ups for Open Mic and Slam\n7:30pm: Open Mic\n8:00pm: Feature\n8:20pm: Slam \n  \nPlease note: the Bureau is closed on Tuesdays. We open at 6 PM for the Union Square Slam. \n  \n208 W 13th St\, Rm #210\nAll Ages // Wheelchair Accessible // $5 \n  \nAbout our Feature: \nEboni Hogan is a Brooklyn-based poet\, playwright\, screenwriter\, actress and arts educator. She studied theater at NYU’s Tisch School of the Arts and the Stella Adler Studio of Acting. In 2012\, her play “Foreign Bodies” was produced by the Culture Project and Poetic Theater Productions as part of the Women Center Stage Festival at The Living Theater. Her most recent play “30\,000 Teeth” had its first reading at the National Black Theatre of Harlem as a part of their I Am Soul reading series. As a performance poet\, she has toured extensively\, performing in over 65 U.S. cities\, as well as internationally in Germany\, Austria\, India and Ghana. In 2010\, she was crowned the Women of the World Poetry Slam champion. As an actress\, she has appeared in the indie film “Moon & Sun” and the short film “Where You Go” which will be screened at the 2016 Cannes Film Festival. The pilot episode of her web series “The Pudding Club” is currently available online. Eboni is also the English Language Arts Curriculum Coordinator for Fresh Ed (Urban Arts Partnership). When she isn’t writing curriculum or making art\, she’s trying to convince her 3.5 year old son to eat actual food. \n  \nAbout our Slam: \n::Union Square Slam National Team Competition:: \nThere are 3 quarters of competitive poetry slam\, each culminating in a Semifinal. Each quarter consists of six open slams (one or more of which is a New Shit slam — competition in New Shit slams counts towards your total points!) \nEach open slam will :\nconsist of up to 8 poet competitors\nhave a 3 min time limit for each round with a 10-second grace period\nwill go from 8 in the first round to 5 in the second round and 3 in the third round (this is subject to change depending on the number of competitors that night — see below)\nbe scored cumulatively — the winner of the night will have the highest cumulative score from all three rounds. \nAt the end of each quarter\, the poets with the 8 highest cumulative scores FOR THE QUARTER\, are invited to compete in Semifinals. If a qualified poet opts out\, then the next highest ranking poet qualifies. Semifinals are run using the same rules as the Open Slams. The top two highest ranked poets in each Semifinals bout will advance to Finals Stage\, along with the top two winners of the Last Chance slam. \n  \n 
URL:https://www.bgsqd.com/event/uss-march-22/
LOCATION:NY
ATTACH;FMTTYPE=image/jpeg:https://www.bgsqd.com/wp-content/uploads/2016/03/USS-March-22.jpg
END:VEVENT
END:VCALENDAR