BEGIN:VCALENDAR
VERSION:2.0
PRODID:-//BGSQD - ECPv6.15.20//NONSGML v1.0//EN
CALSCALE:GREGORIAN
METHOD:PUBLISH
X-ORIGINAL-URL:https://www.bgsqd.com
X-WR-CALDESC:Events for BGSQD
REFRESH-INTERVAL;VALUE=DURATION:PT1H
X-Robots-Tag:noindex
X-PUBLISHED-TTL:PT1H
BEGIN:VTIMEZONE
TZID:America/New_York
BEGIN:DAYLIGHT
TZOFFSETFROM:-0500
TZOFFSETTO:-0400
TZNAME:EDT
DTSTART:20150308T070000
END:DAYLIGHT
BEGIN:STANDARD
TZOFFSETFROM:-0400
TZOFFSETTO:-0500
TZNAME:EST
DTSTART:20151101T060000
END:STANDARD
BEGIN:DAYLIGHT
TZOFFSETFROM:-0500
TZOFFSETTO:-0400
TZNAME:EDT
DTSTART:20160313T070000
END:DAYLIGHT
BEGIN:STANDARD
TZOFFSETFROM:-0400
TZOFFSETTO:-0500
TZNAME:EST
DTSTART:20161106T060000
END:STANDARD
BEGIN:DAYLIGHT
TZOFFSETFROM:-0500
TZOFFSETTO:-0400
TZNAME:EDT
DTSTART:20170312T070000
END:DAYLIGHT
BEGIN:STANDARD
TZOFFSETFROM:-0400
TZOFFSETTO:-0500
TZNAME:EST
DTSTART:20171105T060000
END:STANDARD
END:VTIMEZONE
BEGIN:VEVENT
DTSTART;TZID=America/New_York:20160318T200000
DTEND;TZID=America/New_York:20160318T213000
DTSTAMP:20260424T155713
CREATED:20160218T214354Z
LAST-MODIFIED:20160218T214354Z
UID:5878-1458331200-1458336600@www.bgsqd.com
SUMMARY:Ian Spencer Bell: Marrow
DESCRIPTION:  \nThe Bureau of General Services—Queer Division and The LGBT Community Center host dancer\, choreographer\, and poet Ian Spencer Bell in a solo performance of Marrow\, Thursday\, March 17 and Friday\, March 18 at 8 p.m. at The Center\, 208 West 13th Street\, Room 101. \n$15 suggested donation to support The Center’s youth programs and the Bureau. Tickets at gaycenter.org/marrow \nFollowing the performance\, please join Ian Spencer Bell for a reception in the Bureau\, room 210. \n \nIn Marrow\, Bell’s most recent work since Holler\, Bell dances 10 poems about self\, place\, family\, dancing\, and what it was like growing up queer in rural Virginia. Several of the poems are retellings of folk stories and gossip Bell heard as a young person. The short\, confessional narratives explore love\, death\, art\, and home. Bell often speaks to himself as he dances. Other times\, he addresses his parents or moves in silence. “I have tried to say the things I am most afraid to say\,” Bell says. The program runs about 25 minutes. \nIn an essay for CultureRover.net about Bell’s 2015 Poetry Foundation performance of Holler\, historian Michael J. Kramer wrote that Bell danced “both outside the poems looking in at them and within their poetic and musical infrastructures … he neither merely illustrated his words\, nor only accompanied the poems with dance—but instead lingered in a space between the two.” \nBell has been the recipient of grants and fellowships from Atlantic Center for the Arts\, Lambda Literary\, Summer Stages Dance\, Virginia Commission for the Arts\, and Jacob’s Pillow\, where he performed with his group on the Inside/Out Stage. He trained at North Carolina School of the Arts\, School of American Ballet\, and Pacific Northwest Ballet\, and graduated from Sarah Lawrence College. Bell studies in the MFA in poetry program at NYU. \nFor more information\, please contact ianspencerbelldance@gmail.com. \n  \n  \n 
URL:https://www.bgsqd.com/event/ian-spencer-bell-marrow-2/
LOCATION:NY
ATTACH;FMTTYPE=image/jpeg:https://www.bgsqd.com/wp-content/uploads/2016/02/ISB_MARROW_2016_final.jpg
END:VEVENT
END:VCALENDAR