BEGIN:VCALENDAR
VERSION:2.0
PRODID:-//BGSQD - ECPv6.15.20//NONSGML v1.0//EN
CALSCALE:GREGORIAN
METHOD:PUBLISH
X-ORIGINAL-URL:https://www.bgsqd.com
X-WR-CALDESC:Events for BGSQD
REFRESH-INTERVAL;VALUE=DURATION:PT1H
X-Robots-Tag:noindex
X-PUBLISHED-TTL:PT1H
BEGIN:VTIMEZONE
TZID:America/New_York
BEGIN:DAYLIGHT
TZOFFSETFROM:-0500
TZOFFSETTO:-0400
TZNAME:EDT
DTSTART:20150308T070000
END:DAYLIGHT
BEGIN:STANDARD
TZOFFSETFROM:-0400
TZOFFSETTO:-0500
TZNAME:EST
DTSTART:20151101T060000
END:STANDARD
BEGIN:DAYLIGHT
TZOFFSETFROM:-0500
TZOFFSETTO:-0400
TZNAME:EDT
DTSTART:20160313T070000
END:DAYLIGHT
BEGIN:STANDARD
TZOFFSETFROM:-0400
TZOFFSETTO:-0500
TZNAME:EST
DTSTART:20161106T060000
END:STANDARD
BEGIN:DAYLIGHT
TZOFFSETFROM:-0500
TZOFFSETTO:-0400
TZNAME:EDT
DTSTART:20170312T070000
END:DAYLIGHT
BEGIN:STANDARD
TZOFFSETFROM:-0400
TZOFFSETTO:-0500
TZNAME:EST
DTSTART:20171105T060000
END:STANDARD
END:VTIMEZONE
BEGIN:VEVENT
DTSTART;TZID=America/New_York:20160315T190000
DTEND;TZID=America/New_York:20160315T213000
DTSTAMP:20260424T225125
CREATED:20160228T173940Z
LAST-MODIFIED:20160228T173949Z
UID:5898-1458068400-1458077400@www.bgsqd.com
SUMMARY:Union Square Slam presents SAM RUSH and Open Slam 3.3
DESCRIPTION:  \nHang on to the seat of your pants\, because Sam Rush is about ready to rocketlaunch you into the heart of the universe!! Come tell us all about it on our open mic or poetry slam!! Get ready for launch at our free poetry workshop before the show!! \n6:00pm: Free Poetry Workshop with Sara Emily Kuntz\n7:00pm: Sign-Ups and Socializing\n7:30pm: Open Mic\n8:00pm: Feature\n8:30pm: Poetry Slam \nPlease note: the Bureau is closed on Tuesdays. We open at 6 PM for Union Square Slam. \nSuggested donation of $5 to benefit the Bureau. No one turned away for lack of funds. \n  \nAbout our Feature: \nSam Rush was raised in South Florida\, but now makes poems and songs in and around New Hampshire. Sam got to writing poems after developing progressive hearing loss as a teenager and noticing how many words each word could be. They represented the venue Slam Free or Die in the 2014 and 2015 National Poetry Slam and the 2014 and 2015 Women of the World Poetry Slams (WOWPS)\, preforming on finals stage at WOWPS 2015. Sam has work published or forthcoming in The Offing\, Snacks\, Drunk in a Midnight Choir\, and We Can Make Your Life Better (U of Hell Press) and currently works for a non-profit focused on empowering youth from cultures in conflict. \nAbout our Slam: \n::Union Square Slam National Team Competition:: \nThere are 3 quarters of competitive poetry slam\, each culminating in a Semifinal. Each quarter consists of six open slams (one or more of which is a New Shit slam — competition in New Shit slams counts towards your total points!) \nEach open slam will :\n– consist of up to 8 poet competitors\nhave a 3 min time limit for each round with a 10-second grace period\n– will go from 8 in the first round to 5 in the second round and 3 in the third round (this is subject to change depending on the number of competitors that night — see below)\n– be scored cumulatively — the winner of the night will have the highest cumulative score from all three rounds. \nAt the end of each quarter\, the poets with the 8 highest cumulative scores FOR THE QUARTER\, are invited to compete in Semifinals. If a qualified poet opts out\, then the next highest ranking poet qualifies. Semifinals are run using the same rules as the Open Slams. The top two highest ranked poets in each Semifinals bout will advance to Finals Stage\, along with the top two winners of the Last Chance slam. \nLast Chance Slam will be INVITATIONAL only to include the top 8 poets who have the highest cumulative scores over the entire season/all three quarters\, but who didn’t not otherwise qualify for FINALS. \n  \n  \n  \n  \n 
URL:https://www.bgsqd.com/event/union-square-slam-presents-sam-rush-and-open-slam-3-3/
LOCATION:NY
ATTACH;FMTTYPE=image/jpeg:https://www.bgsqd.com/wp-content/uploads/2016/02/USS-March-15.jpg
END:VEVENT
END:VCALENDAR