BEGIN:VCALENDAR
VERSION:2.0
PRODID:-//BGSQD - ECPv6.15.20//NONSGML v1.0//EN
CALSCALE:GREGORIAN
METHOD:PUBLISH
X-ORIGINAL-URL:https://www.bgsqd.com
X-WR-CALDESC:Events for BGSQD
REFRESH-INTERVAL;VALUE=DURATION:PT1H
X-Robots-Tag:noindex
X-PUBLISHED-TTL:PT1H
BEGIN:VTIMEZONE
TZID:America/New_York
BEGIN:DAYLIGHT
TZOFFSETFROM:-0500
TZOFFSETTO:-0400
TZNAME:EDT
DTSTART:20150308T070000
END:DAYLIGHT
BEGIN:STANDARD
TZOFFSETFROM:-0400
TZOFFSETTO:-0500
TZNAME:EST
DTSTART:20151101T060000
END:STANDARD
BEGIN:DAYLIGHT
TZOFFSETFROM:-0500
TZOFFSETTO:-0400
TZNAME:EDT
DTSTART:20160313T070000
END:DAYLIGHT
BEGIN:STANDARD
TZOFFSETFROM:-0400
TZOFFSETTO:-0500
TZNAME:EST
DTSTART:20161106T060000
END:STANDARD
BEGIN:DAYLIGHT
TZOFFSETFROM:-0500
TZOFFSETTO:-0400
TZNAME:EDT
DTSTART:20170312T070000
END:DAYLIGHT
BEGIN:STANDARD
TZOFFSETFROM:-0400
TZOFFSETTO:-0500
TZNAME:EST
DTSTART:20171105T060000
END:STANDARD
END:VTIMEZONE
BEGIN:VEVENT
DTSTART;TZID=America/New_York:20160306T170000
DTEND;TZID=America/New_York:20160306T193000
DTSTAMP:20260424T225200
CREATED:20160208T170943Z
LAST-MODIFIED:20160222T191019Z
UID:5833-1457283600-1457292600@www.bgsqd.com
SUMMARY:A Paper Cuts Zine Reading
DESCRIPTION:  \nPaper Cuts is an exploration of the contemporary world of zines and DIY publishing that airs on Clocktower.org. In 2015\, Paper Cuts took the show on the road in a monthly reading series that’s touring independent bookstores in New York. We feature writers\, zinesters\, artists\, and performers who typically share their work in print\, on paper\, and in small editions. This series is a cross section of the varied landscape and rich history of publishing and the institutions that support it. Listen to voices that would normally live in your hands and demand your eyeballs. \nReaders:\nPaul Moreno \nArno Mokros \nPosture // Winter Mendelson and M. Lamar \nSy Abudu \nNicholas Boggs \n  \nSuggested donation of $5 to benefit the Bureau. No one turned away for lack of funds.\n  \nEvent image: Drawing by Paul Moreno\n  \nSy Abudu is from Los Angeles and lives in Brooklyn\, where she creates visual art and zines under the moniker great/grand/golden. Her work\, which has been shown at the Black Lesbian DIY Fest\, the Feminist Zine Fest\, and the Allied Media Conference\, features archival images from the Library of Congress “remixed” into new pieces that explore themes of visibility\, African-American identity\, and relationships through the lens of historical imagery. Sy earned her BFA in film & television from NYU\, where she now works as a multimedia producer.\n  \nNicholas Boggs is writing a book about his search for the untold story of James Baldwin’s collaboration with French painter Yoran Cazac\, which has been supported by fellowships from Yaddo and MacDowell and grants from the Camargo and Jerome foundations. Co-editor of a forthcoming new edition of Baldwin and Cazac’s “child’s story for adults\,” Little Man Little Man: A Story of Childhood\, his writing has appeared in the journals PANK and Callaloo and in the anthologies James Baldwin Now\, The Cambridge Companion to James Baldwin\, and Best Gay Stories 2013. He teaches in the Department of English at New York University.\n  \nArno Mokros is a writer and contributor to Paper Cuts. Informed by the personal as political\, his zines often incorporate confessional writing and social commentary. He writes about queerness\, visual culture\, and how histories are written. He is currently at work on a long-term writing project interrogating the continuity of “self” through time and is developing a project interweaving personal diary\, oral histories\, and gonzo journalism\, which explores identity\, family\, belonging\, and symbolic geographies of homeland. He graduated from Smith College in 2013\, and currently lives in Brooklyn.\n  \nPaul Moreno was born in Sparks\, NV. Studied Literature at University of San Francisco and then moved to New York to attend the Gallatin School of Independent Study at NYU. After an early departure from a program in Critical Thought\, Paul pursued careers as a Gallerina\, a Home-maker\, and most recently\, a set and prop stylist. Throughout these careers\, Paul\, a self taught visual artist\, has been making drawings\, paintings\, and zines that deal with sexual positions\, tropes of masculinity\, and notions of beauty. Paul\, in collaboration with Charlie Welch\, is the creator of KNOWSGAY\, a zine that takes an artistic approach to gay iconography. Paul lives in Brooklyn\, NY.\n  \nPosture is an online and print arts publication that explores identity\, sexuality\, and gender through artistic practice. The publication features extraordinary LGBTQI and allied individuals who seek to simultaneously address and overcome oppression. They believe that visual activism\, fashion\, and artistic practice are powerful forces that can further cultural progress and build community. Posture’s audience is unified by the shared interpretation of queerness as a lifestyle that is defined by an openness to possibility rather than exclusions or boundaries.\nPosture’s featured artist for the Zine Reading is M. Lamar. \n  \n  \n  \n 
URL:https://www.bgsqd.com/event/a-paper-cuts-zine-reading/
LOCATION:NY
ATTACH;FMTTYPE=image/jpeg:https://www.bgsqd.com/wp-content/uploads/2016/02/Paper-Cuts-March.jpg
END:VEVENT
END:VCALENDAR