BEGIN:VCALENDAR
VERSION:2.0
PRODID:-//BGSQD - ECPv6.15.20//NONSGML v1.0//EN
CALSCALE:GREGORIAN
METHOD:PUBLISH
X-WR-CALNAME:BGSQD
X-ORIGINAL-URL:https://www.bgsqd.com
X-WR-CALDESC:Events for BGSQD
REFRESH-INTERVAL;VALUE=DURATION:PT1H
X-Robots-Tag:noindex
X-PUBLISHED-TTL:PT1H
BEGIN:VTIMEZONE
TZID:America/New_York
BEGIN:DAYLIGHT
TZOFFSETFROM:-0500
TZOFFSETTO:-0400
TZNAME:EDT
DTSTART:20150308T070000
END:DAYLIGHT
BEGIN:STANDARD
TZOFFSETFROM:-0400
TZOFFSETTO:-0500
TZNAME:EST
DTSTART:20151101T060000
END:STANDARD
BEGIN:DAYLIGHT
TZOFFSETFROM:-0500
TZOFFSETTO:-0400
TZNAME:EDT
DTSTART:20160313T070000
END:DAYLIGHT
BEGIN:STANDARD
TZOFFSETFROM:-0400
TZOFFSETTO:-0500
TZNAME:EST
DTSTART:20161106T060000
END:STANDARD
BEGIN:DAYLIGHT
TZOFFSETFROM:-0500
TZOFFSETTO:-0400
TZNAME:EDT
DTSTART:20170312T070000
END:DAYLIGHT
BEGIN:STANDARD
TZOFFSETFROM:-0400
TZOFFSETTO:-0500
TZNAME:EST
DTSTART:20171105T060000
END:STANDARD
END:VTIMEZONE
BEGIN:VEVENT
DTSTART;TZID=America/New_York:20160301T190000
DTEND;TZID=America/New_York:20160301T213000
DTSTAMP:20260424T181104
CREATED:20160215T172428Z
LAST-MODIFIED:20160215T172552Z
UID:5850-1456858800-1456867800@www.bgsqd.com
SUMMARY:Union Square Slam presents GEOFF KAGAN-TRENCHARD
DESCRIPTION:Well\, here we are! A fresh new quarter on our Brand New Day: as of this show\, Union Square Slam has officially moved to TUESDAYS!! Take note\, then get your Art Hearts down here for the indominable Geoff Kagan-Trenchard\, and our very first open slam in our last quarter!! \n6:00pm: Free Poetry Workshop with Sara Emily Kuntz\n7:00pm: Sign-ups\n7:30pm: Open Mic\n8:00pm: Feature\n8:30pm Poetry Slam \nAbout our Feature: \nGeoff Kagan-Trenchard is a nationally recognized poet and theater artist. His work has been featured on HBO\, All Def Poetry\, TEDx\, and Upworty. His poems have been published in published in numerous journals including Word Riot\, Muzzle\, Union Station Magazine and Freeze Ray. He has received commissions for theatrical work from the National Performance Network\, Dance Theater Workshop\, The Zellerbach Family Foundation\, and the City of Oakland. He is also a lawyer with the Court Square Law Project. His work can be found at kagantrenchard.com/geoff \nAbout our Slam: \n::Union Square Slam National Team Competition:: \nThere are 3 quarters of competitive poetry slam\, each culminating in a Semifinal. Each quarter consists of six open slams (one or more of which is a New Shit slam — competition in New Shit slams counts towards your total points!) \nEach open slam will : \n– consist of up to 8 poet competitors \n– have a 3 min time limit for each round with a 10-second grace period \n– will go from 8 in the first round to 5 in the second round and 3 in the third round (this is subject to change depending on the number of competitors that night — see below) \n– be scored cumulatively — the winner of the night will have the highest cumulative score from all three rounds. \nAt the end of each quarter\, the poets with the 8 highest cumulative scores FOR THE QUARTER\, are invited to compete in Semifinals. If a qualified poet opts out\, then the next highest ranking poet qualifies. Semifinals are run using the same rules as the Open Slams. The top two highest ranked poets in each Semifinals bout will advance to Finals Stage\, along with the top two winners of the Last Chance slam. \nLast Chance Slam will be INVITATIONAL only to include the top 8 poets who have the highest cumulative scores over the entire season/all three quarters\, but who didn’t not otherwise qualify for FINALS. \n  \n  \n 
URL:https://www.bgsqd.com/event/union-square-slam-presents-geoff-kagan-trenchard/
LOCATION:NY
ATTACH;FMTTYPE=image/jpeg:https://www.bgsqd.com/wp-content/uploads/2016/02/Geoff-USS.jpg
END:VEVENT
END:VCALENDAR