BEGIN:VCALENDAR
VERSION:2.0
PRODID:-//BGSQD - ECPv6.15.20//NONSGML v1.0//EN
CALSCALE:GREGORIAN
METHOD:PUBLISH
X-ORIGINAL-URL:https://www.bgsqd.com
X-WR-CALDESC:Events for BGSQD
REFRESH-INTERVAL;VALUE=DURATION:PT1H
X-Robots-Tag:noindex
X-PUBLISHED-TTL:PT1H
BEGIN:VTIMEZONE
TZID:America/New_York
BEGIN:DAYLIGHT
TZOFFSETFROM:-0500
TZOFFSETTO:-0400
TZNAME:EDT
DTSTART:20150308T070000
END:DAYLIGHT
BEGIN:STANDARD
TZOFFSETFROM:-0400
TZOFFSETTO:-0500
TZNAME:EST
DTSTART:20151101T060000
END:STANDARD
BEGIN:DAYLIGHT
TZOFFSETFROM:-0500
TZOFFSETTO:-0400
TZNAME:EDT
DTSTART:20160313T070000
END:DAYLIGHT
BEGIN:STANDARD
TZOFFSETFROM:-0400
TZOFFSETTO:-0500
TZNAME:EST
DTSTART:20161106T060000
END:STANDARD
BEGIN:DAYLIGHT
TZOFFSETFROM:-0500
TZOFFSETTO:-0400
TZNAME:EDT
DTSTART:20170312T070000
END:DAYLIGHT
BEGIN:STANDARD
TZOFFSETFROM:-0400
TZOFFSETTO:-0500
TZNAME:EST
DTSTART:20171105T060000
END:STANDARD
END:VTIMEZONE
BEGIN:VEVENT
DTSTART;TZID=America/New_York:20160222T190000
DTEND;TZID=America/New_York:20160222T213000
DTSTAMP:20260424T181034
CREATED:20160208T191920Z
LAST-MODIFIED:20160208T191920Z
UID:5846-1456167600-1456176600@www.bgsqd.com
SUMMARY:Union Square Slam presents FRANNY CHOI and SEMIFINALS #2
DESCRIPTION:  \nIt’s that time of the year again! Time for Union Suare Slam’s top poets to duke it out for the next two spots on our first Finals stage ever this May\, with none other than the legendary Franny Choi!!! \n6pm: Free Poetry Workshop with Sara Emily Kuntz\n7pm: sign-ups (open Mic Only)\n7:30pm: Open Mic\n7:50pm: Feature\n8: 20pm: Semifinals Slam (invite only) \nSuggested donation of $5 to benefit the Bureau. No one turned away for lack of funds. \nAbout our Feature: \nFRANNY CHOI is a writer\, performer\, and teaching artist.\nShe is the author of Floating\, Brilliant\, Gone (Write Bloody\, 2014) and a Rhode Island State Council on the Arts Fellow. She has been a finalist for multiple national poetry slams\, and her work has appeared in Poetry Magazine\, The Journal\, PANK\, The Rumpus\, and others. She is a Project VOICE teaching artist\, a Co-Director of the Providence Poetry Slam\, and a member of the Dark Noise Collective. \nAbout our Slam: \n::Union Square Slam National Team Competition:: \nThere are 3 quarters of competitive poetry slam\, each culminating in a Semifinal. Each quarter consists of six open slams (one or more of which is a New Shit slam — competition in New Shit slams counts towards your total points!) \nEach open slam will :\nconsist of up to 8 poet competitors\nhave a 3 min time limit for each round with a 10-second grace period\nwill go from 8 in the first round to 5 in the second round and 3 in the third round (this is subject to change depending on the number of competitors that night — see below)\nbe scored cumulatively — the winner of the night will have the highest cumulative score from all three rounds. \nAt the end of each quarter\, the poets with the 8 highest cumulative scores FOR THE QUARTER\, are invited to compete in Semifinals. If a qualified poet opts out\, then the next highest ranking poet qualifies. Semifinals are run using the same rules as the Open Slams. The top two highest ranked poets in each Semifinals bout will advance to Finals Stage\, along with the top two winners of the Last Chance slam. \nLast Chance Slam will be INVITATIONAL only to include the top 8 poets who have the highest cumulative scores over the entire season/all three quarters\, but who didn’t not otherwise qualify for FINALS. \nHOST: Thomas Fucaloro \n  \n  \n 
URL:https://www.bgsqd.com/event/union-square-slam-presents-franny-choi-and-semifinals-2/
LOCATION:NY
ATTACH;FMTTYPE=image/jpeg:https://www.bgsqd.com/wp-content/uploads/2016/02/Franny-Choi.jpg
END:VEVENT
END:VCALENDAR