BEGIN:VCALENDAR
VERSION:2.0
PRODID:-//BGSQD - ECPv6.15.20//NONSGML v1.0//EN
CALSCALE:GREGORIAN
METHOD:PUBLISH
X-ORIGINAL-URL:https://www.bgsqd.com
X-WR-CALDESC:Events for BGSQD
REFRESH-INTERVAL;VALUE=DURATION:PT1H
X-Robots-Tag:noindex
X-PUBLISHED-TTL:PT1H
BEGIN:VTIMEZONE
TZID:America/New_York
BEGIN:DAYLIGHT
TZOFFSETFROM:-0500
TZOFFSETTO:-0400
TZNAME:EDT
DTSTART:20150308T070000
END:DAYLIGHT
BEGIN:STANDARD
TZOFFSETFROM:-0400
TZOFFSETTO:-0500
TZNAME:EST
DTSTART:20151101T060000
END:STANDARD
BEGIN:DAYLIGHT
TZOFFSETFROM:-0500
TZOFFSETTO:-0400
TZNAME:EDT
DTSTART:20160313T070000
END:DAYLIGHT
BEGIN:STANDARD
TZOFFSETFROM:-0400
TZOFFSETTO:-0500
TZNAME:EST
DTSTART:20161106T060000
END:STANDARD
BEGIN:DAYLIGHT
TZOFFSETFROM:-0500
TZOFFSETTO:-0400
TZNAME:EDT
DTSTART:20170312T070000
END:DAYLIGHT
BEGIN:STANDARD
TZOFFSETFROM:-0400
TZOFFSETTO:-0500
TZNAME:EST
DTSTART:20171105T060000
END:STANDARD
END:VTIMEZONE
BEGIN:VEVENT
DTSTART;TZID=America/New_York:20160211T183000
DTEND;TZID=America/New_York:20160211T200000
DTSTAMP:20260424T192443
CREATED:20160124T183112Z
LAST-MODIFIED:20160124T183233Z
UID:5755-1455215400-1455220800@www.bgsqd.com
SUMMARY:Bi Book Club discusses The Lunatic\, the Lover\, and the Poet by Myrlin A. Hermes
DESCRIPTION:  \nThe Bi Book Club meets on the second Thursday of each month to discuss bi-themed books and the issues they raise. \nDinner after nearby (so far\, we always go to Village Den.) \nOn February 11\, The Bi Book Club will discuss: \nThe Lunatic\, the Lover\, and the Poet by Myrlin A. Hermes \nShakespeare turned topsy turvy: a clever bisexual mashup between a sexy young Hamlet and characters from the sonnets. Very readable–no olde English. Note: The Sonnets\, and Shakespeare\, were bisexual. \nPick out some phrases\, paragraphs or scenes that you’d like to discuss\, give us your critique of the book: what worked\, what didn’t\, how was bisexuality represented? If you haven’t had the chance to read the book\, come anyway because we read passages aloud for discussion. As usual\, we’ll also be using the text as a jumping off point to further discussion of bisexual issues and personal experiences. \nSuggested donation of $5 to benefit the Bureau. No one turned away for lack of funds. \nRSVP on meetup.com (not required) \n  \n  \n  \n 
URL:https://www.bgsqd.com/event/bi-book-club-discusses-lunatic/
LOCATION:NY
ATTACH;FMTTYPE=image/jpeg:https://www.bgsqd.com/wp-content/uploads/2016/01/Lunatic-Lover-Poet.jpg
END:VEVENT
END:VCALENDAR