BEGIN:VCALENDAR
VERSION:2.0
PRODID:-//BGSQD - ECPv6.15.20//NONSGML v1.0//EN
CALSCALE:GREGORIAN
METHOD:PUBLISH
X-WR-CALNAME:BGSQD
X-ORIGINAL-URL:https://www.bgsqd.com
X-WR-CALDESC:Events for BGSQD
REFRESH-INTERVAL;VALUE=DURATION:PT1H
X-Robots-Tag:noindex
X-PUBLISHED-TTL:PT1H
BEGIN:VTIMEZONE
TZID:America/New_York
BEGIN:DAYLIGHT
TZOFFSETFROM:-0500
TZOFFSETTO:-0400
TZNAME:EDT
DTSTART:20150308T070000
END:DAYLIGHT
BEGIN:STANDARD
TZOFFSETFROM:-0400
TZOFFSETTO:-0500
TZNAME:EST
DTSTART:20151101T060000
END:STANDARD
BEGIN:DAYLIGHT
TZOFFSETFROM:-0500
TZOFFSETTO:-0400
TZNAME:EDT
DTSTART:20160313T070000
END:DAYLIGHT
BEGIN:STANDARD
TZOFFSETFROM:-0400
TZOFFSETTO:-0500
TZNAME:EST
DTSTART:20161106T060000
END:STANDARD
BEGIN:DAYLIGHT
TZOFFSETFROM:-0500
TZOFFSETTO:-0400
TZNAME:EDT
DTSTART:20170312T070000
END:DAYLIGHT
BEGIN:STANDARD
TZOFFSETFROM:-0400
TZOFFSETTO:-0500
TZNAME:EST
DTSTART:20171105T060000
END:STANDARD
END:VTIMEZONE
BEGIN:VEVENT
DTSTART;TZID=America/New_York:20160206T190000
DTEND;TZID=America/New_York:20160206T210000
DTSTAMP:20260424T163439
CREATED:20160122T185229Z
LAST-MODIFIED:20160206T190244Z
UID:5736-1454785200-1454792400@www.bgsqd.com
SUMMARY:RuPaul's Drag Race Mad Libs Launch
DESCRIPTION:  \nCome play Mad Libs with the authors of RuPaul’s Drag Race Mad Libs!\n  \n\nDRAG QUEEN UPDATE!!!! WE WILL BE JOINED SATURDAY BY JIGGLY CALIENTE (Season 4) & VIVACIOUS (Season 6)! \nALSO THE SMART AND HILARIOUS ARIEL ITALIC FROM THE NOBODIES WILL BE ON HAND TO DO A MAD LIBS!!! \n  \nAuthors of RuPaul’s Drag Mad Libs\, Karl Marks and Nico Medina celebrate the publication of the fiercest Mad Libs in herstory. Appearing in their drag alter egos\, the authors will invite local drag queens and audience members on stage to complete Mad Libs stories from the book.\n\nSuggested donation of $5 to benefit the Bureau. No one turned away for lack of funds. \n\nRuPaul’s Drag Mad Libs is based on the hit reality show RuPaul’s Drag Race!\n  \nYou’ll want to run—in heels—to pick up your copy of RuPaul’s Drag Race Mad Libs. Fans can relive their favorite moments from this fierce reality show by playing the 21 stories included in this book. Work!\n\n 
URL:https://www.bgsqd.com/event/rupauls-drag-race-mad-libs-launch/
LOCATION:NY
ATTACH;FMTTYPE=image/jpeg:https://www.bgsqd.com/wp-content/uploads/2016/01/RuPaul_MadLibs_CV-2.jpg
END:VEVENT
END:VCALENDAR