BEGIN:VCALENDAR
VERSION:2.0
PRODID:-//BGSQD - ECPv6.15.20//NONSGML v1.0//EN
CALSCALE:GREGORIAN
METHOD:PUBLISH
X-ORIGINAL-URL:https://www.bgsqd.com
X-WR-CALDESC:Events for BGSQD
REFRESH-INTERVAL;VALUE=DURATION:PT1H
X-Robots-Tag:noindex
X-PUBLISHED-TTL:PT1H
BEGIN:VTIMEZONE
TZID:America/New_York
BEGIN:DAYLIGHT
TZOFFSETFROM:-0500
TZOFFSETTO:-0400
TZNAME:EDT
DTSTART:20150308T070000
END:DAYLIGHT
BEGIN:STANDARD
TZOFFSETFROM:-0400
TZOFFSETTO:-0500
TZNAME:EST
DTSTART:20151101T060000
END:STANDARD
BEGIN:DAYLIGHT
TZOFFSETFROM:-0500
TZOFFSETTO:-0400
TZNAME:EDT
DTSTART:20160313T070000
END:DAYLIGHT
BEGIN:STANDARD
TZOFFSETFROM:-0400
TZOFFSETTO:-0500
TZNAME:EST
DTSTART:20161106T060000
END:STANDARD
BEGIN:DAYLIGHT
TZOFFSETFROM:-0500
TZOFFSETTO:-0400
TZNAME:EDT
DTSTART:20170312T070000
END:DAYLIGHT
BEGIN:STANDARD
TZOFFSETFROM:-0400
TZOFFSETTO:-0500
TZNAME:EST
DTSTART:20171105T060000
END:STANDARD
END:VTIMEZONE
BEGIN:VEVENT
DTSTART;TZID=America/New_York:20160205T190000
DTEND;TZID=America/New_York:20160205T220000
DTSTAMP:20260424T180305
CREATED:20160122T205606Z
LAST-MODIFIED:20160122T210237Z
UID:5745-1454698800-1454709600@www.bgsqd.com
SUMMARY:February Moon Show in Manhattan
DESCRIPTION:  \nThe Moon Show is excited to be expanding its series to the Bureau of General Services—Queer Division in Manhattan which is wheel chair accessible! \nStarting at 7 pm \nFeaturing:\nValerie Brooks\, poetry\nMaxine Montilus\, dance\nSunny Wilder\, poetry\nNoia Isaiah\, music\nKiki Williams\, performance\nFrances Damian Arpaia\, film \nThe Moon Show is a queer\, trans\, anti-racist\, intersectional feminist performance series. \nWe will be asking for a $5-15 suggested donation for the performers. No one will be made to feel unwelcome for lack of funds. There are plenty of chairs for everyone to sit.\nhttps://ourmoonshow.tumblr.com/ \n  \n 
URL:https://www.bgsqd.com/event/february-moon-show-in-manhattan/
LOCATION:NY
ATTACH;FMTTYPE=image/jpeg:https://www.bgsqd.com/wp-content/uploads/2016/01/Moon-Show-Feb.jpg
END:VEVENT
END:VCALENDAR