BEGIN:VCALENDAR
VERSION:2.0
PRODID:-//BGSQD - ECPv6.15.20//NONSGML v1.0//EN
CALSCALE:GREGORIAN
METHOD:PUBLISH
X-ORIGINAL-URL:https://www.bgsqd.com
X-WR-CALDESC:Events for BGSQD
REFRESH-INTERVAL;VALUE=DURATION:PT1H
X-Robots-Tag:noindex
X-PUBLISHED-TTL:PT1H
BEGIN:VTIMEZONE
TZID:America/New_York
BEGIN:DAYLIGHT
TZOFFSETFROM:-0500
TZOFFSETTO:-0400
TZNAME:EDT
DTSTART:20150308T070000
END:DAYLIGHT
BEGIN:STANDARD
TZOFFSETFROM:-0400
TZOFFSETTO:-0500
TZNAME:EST
DTSTART:20151101T060000
END:STANDARD
BEGIN:DAYLIGHT
TZOFFSETFROM:-0500
TZOFFSETTO:-0400
TZNAME:EDT
DTSTART:20160313T070000
END:DAYLIGHT
BEGIN:STANDARD
TZOFFSETFROM:-0400
TZOFFSETTO:-0500
TZNAME:EST
DTSTART:20161106T060000
END:STANDARD
BEGIN:DAYLIGHT
TZOFFSETFROM:-0500
TZOFFSETTO:-0400
TZNAME:EDT
DTSTART:20170312T070000
END:DAYLIGHT
BEGIN:STANDARD
TZOFFSETFROM:-0400
TZOFFSETTO:-0500
TZNAME:EST
DTSTART:20171105T060000
END:STANDARD
END:VTIMEZONE
BEGIN:VEVENT
DTSTART;TZID=America/New_York:20160201T190000
DTEND;TZID=America/New_York:20160201T213000
DTSTAMP:20260424T181049
CREATED:20160124T192901Z
LAST-MODIFIED:20160124T193246Z
UID:5757-1454353200-1454362200@www.bgsqd.com
SUMMARY:Union Square Slam presents PAUL TRAN and Open Slam 2.5
DESCRIPTION:  \nWWWWWHHHHHHHHAAAAAATTTTTTT Too thrilled to be hosting the fiercest Queen of Queer Fabulosity and Wicked Sharp Wordsmith Paul Tran and our 5th open slam of this quarter\, that’s what! \nHosted by CE Bain!!!\n$5 // All Ages \n(Please note: the Bureau is closed on Mondays. We open at 6 PM on Mondays for the Union Square Slam.)  \n6:00pm: Free Poetry Workshop\, hosted by Sara Emily Kuntz\n7:00pm: Sign-ups for open mic and slam begin\n7:30pm: Open Mic\n8:00pm: Feature\n8:30pm: Slam \nAbout our Feature: \nPaul Tran is the 10th ranked slam poet in the world. His Pushcart-nominated work appears in Prairie Schooner\, The Cortland Review\, The Offing\, and RHINO\, which gave him a 2015 Editor’s Prize. He has received fellowships and residencies from Kundiman\, VONA\, Poets House\, Lambda Literary\, Napa Valley\, Home School Miami\, and the Vermont Studio Center. Paul is the first Asian American poet to represent the Nuyorican Poets Cafe at the National Poetry Slam in almost 20 years. He lives in NYC\, where he is a graduate student at NYU. \nAbout our Slam: \n::Union Square Slam National Team Competition:: \nThere are 3 quarters of competitive poetry slam\, each culminating in a Semifinal. Each quarter consists of six open slams (one or more of which is a New Shit slam — competition in New Shit slams counts towards your total points!)\nEach open slam will : \n•consist of up to 8 poet competitors \n•have a 3 min time limit for each round with a 10-second grace period \n•will go from 8 in the first round to 5 in the second round and 3 in the third round (this is subject to change depending on the number of competitors that night — see below) \n•be scored cumulatively — the winner of the night will have the highest cumulative score from all three rounds. \nAt the end of each quarter\, the poets with the 8 highest cumulative scores FOR THE QUARTER\, are invited to compete in Semifinals. If a qualified poet opts out\, then the next highest ranking poet qualifies. Semifinals are run using the same rules as the Open Slams. The top two highest ranked poets in each Semifinals bout will advance to Finals Stage\, along with the top two winners of the Last Chance slam. \nLast Chance Slam will be INVITATIONAL only to include the top 8 poets who have the highest cumulative scores over the entire season/all three quarters\, but who didn’t not otherwise qualify for FINALS. \n  \n  \n  \n 
URL:https://www.bgsqd.com/event/uss-feb-1/
LOCATION:NY
ATTACH;FMTTYPE=image/jpeg:https://www.bgsqd.com/wp-content/uploads/2016/01/USS-FEB-1.jpg
END:VEVENT
END:VCALENDAR