BEGIN:VCALENDAR
VERSION:2.0
PRODID:-//BGSQD - ECPv6.15.20//NONSGML v1.0//EN
CALSCALE:GREGORIAN
METHOD:PUBLISH
X-ORIGINAL-URL:https://www.bgsqd.com
X-WR-CALDESC:Events for BGSQD
REFRESH-INTERVAL;VALUE=DURATION:PT1H
X-Robots-Tag:noindex
X-PUBLISHED-TTL:PT1H
BEGIN:VTIMEZONE
TZID:America/New_York
BEGIN:DAYLIGHT
TZOFFSETFROM:-0500
TZOFFSETTO:-0400
TZNAME:EDT
DTSTART:20150308T070000
END:DAYLIGHT
BEGIN:STANDARD
TZOFFSETFROM:-0400
TZOFFSETTO:-0500
TZNAME:EST
DTSTART:20151101T060000
END:STANDARD
BEGIN:DAYLIGHT
TZOFFSETFROM:-0500
TZOFFSETTO:-0400
TZNAME:EDT
DTSTART:20160313T070000
END:DAYLIGHT
BEGIN:STANDARD
TZOFFSETFROM:-0400
TZOFFSETTO:-0500
TZNAME:EST
DTSTART:20161106T060000
END:STANDARD
BEGIN:DAYLIGHT
TZOFFSETFROM:-0500
TZOFFSETTO:-0400
TZNAME:EDT
DTSTART:20170312T070000
END:DAYLIGHT
BEGIN:STANDARD
TZOFFSETFROM:-0400
TZOFFSETTO:-0500
TZNAME:EST
DTSTART:20171105T060000
END:STANDARD
END:VTIMEZONE
BEGIN:VEVENT
DTSTART;TZID=America/New_York:20160128T190000
DTEND;TZID=America/New_York:20160128T203000
DTSTAMP:20260425T061848
CREATED:20151226T224839Z
LAST-MODIFIED:20151227T185859Z
UID:5683-1454007600-1454013000@www.bgsqd.com
SUMMARY:Gay Art and History at the Louvre Museum
DESCRIPTION:  \nCertain American museums\, like the Met or the MFA in Boston\, have great collections of art on gay themes. There are also of course museums like this in Europe\, and the greatest of all is the Louvre. Its excellent Greek\, Roman\, and Italian Renaissance collections are full of works that refer to the gay side of their cultural moments\, such as the museum’s *four* statues or busts of the Roman Emperor Hadrian’s lover Antinous and the most rapturously languorous of Michelangelo’s captives. The museum also contains great collections of French historical pieces and patriotic works of the Napoleonic period\, and both of these also contain fascinating gay themed works. A gay tour of the museum turns up many surprises and speaks to us of many centuries of gay history.\n \nImage: Michelangelo Buonarroti. Captive (The Rebellious Slave). Marble. After 1513. H. 2.09 m. Louvre \n  \nSuggested donation of $5 to benefit the Bureau.\nNo one turned away for lack of funds.\n\n  \nDr. Andrew Lear is a world renowned expert on sexuality in ancient art and the author of Images of Ancient Greek Pederasty: Boys Were Their Gods (Routledge 2008). He is also the founder of Oscar Wilde Tours\, the world’s first gay history and art tour company. Oscar Wilde Tours gives gay art tours of the Metropolitan Museum\, called “Gay Secrets of the Met” and will launch a gay tour of the Louvre this August as part of its Gay London/Gay Paris tour.\n \n \n \n 
URL:https://www.bgsqd.com/event/gay-art-and-history-at-the-louvre-museum/
LOCATION:NY
ATTACH;FMTTYPE=image/jpeg:https://www.bgsqd.com/wp-content/uploads/2015/12/Paris-Louvre-Michelangelo-slave.jpg
END:VEVENT
END:VCALENDAR