BEGIN:VCALENDAR
VERSION:2.0
PRODID:-//BGSQD - ECPv6.15.20//NONSGML v1.0//EN
CALSCALE:GREGORIAN
METHOD:PUBLISH
X-ORIGINAL-URL:https://www.bgsqd.com
X-WR-CALDESC:Events for BGSQD
REFRESH-INTERVAL;VALUE=DURATION:PT1H
X-Robots-Tag:noindex
X-PUBLISHED-TTL:PT1H
BEGIN:VTIMEZONE
TZID:America/New_York
BEGIN:DAYLIGHT
TZOFFSETFROM:-0500
TZOFFSETTO:-0400
TZNAME:EDT
DTSTART:20150308T070000
END:DAYLIGHT
BEGIN:STANDARD
TZOFFSETFROM:-0400
TZOFFSETTO:-0500
TZNAME:EST
DTSTART:20151101T060000
END:STANDARD
BEGIN:DAYLIGHT
TZOFFSETFROM:-0500
TZOFFSETTO:-0400
TZNAME:EDT
DTSTART:20160313T070000
END:DAYLIGHT
BEGIN:STANDARD
TZOFFSETFROM:-0400
TZOFFSETTO:-0500
TZNAME:EST
DTSTART:20161106T060000
END:STANDARD
BEGIN:DAYLIGHT
TZOFFSETFROM:-0500
TZOFFSETTO:-0400
TZNAME:EDT
DTSTART:20170312T070000
END:DAYLIGHT
BEGIN:STANDARD
TZOFFSETFROM:-0400
TZOFFSETTO:-0500
TZNAME:EST
DTSTART:20171105T060000
END:STANDARD
END:VTIMEZONE
BEGIN:VEVENT
DTSTART;TZID=America/New_York:20160107T190000
DTEND;TZID=America/New_York:20160107T213000
DTSTAMP:20260425T073748
CREATED:20151223T195747Z
LAST-MODIFIED:20151223T195823Z
UID:5661-1452193200-1452202200@www.bgsqd.com
SUMMARY:'We Are The Gentle Angry People': Emotional Legacies of South African LGBT Activism
DESCRIPTION:Activist Kyle Bella writes:\n“In November and December\, I traveled to South Africa to explore LGBTQ activism around HIV/AIDS. I focused most of my work on Simon Nkoli\, born in one of the townships outside of Johannesburg\, who would later become the country’s first recognizable Black and gay activist. I would like to talk about his legacy\, what it means for a younger generation of activists to access this material today\, and explore what these emotionally charged histories can mean for us in the United States.” \nSuggested donation of $5 to benefit the Bureau.\nNo one turned away for lack of funds. \nThis event is presented by the Bureau in conjunction with the Bureau’s exhibition The Uses of Anger.\n\nKyle Bella currently resides in Bushwick. He’s the founder of Our Viral Lives\, an online archive of stories related to HIV and sexuality for an under 35 LGBTQ audience. He also writes for various publications\, and is working on a book project about queer archiving in 2016. \n  \n 
URL:https://www.bgsqd.com/event/we-are-the-gentle-angry-people/
LOCATION:NY
ATTACH;FMTTYPE=image/jpeg:https://www.bgsqd.com/wp-content/uploads/2015/12/Kyle-Bella-event.jpg
END:VEVENT
END:VCALENDAR