BEGIN:VCALENDAR
VERSION:2.0
PRODID:-//BGSQD - ECPv6.15.20//NONSGML v1.0//EN
CALSCALE:GREGORIAN
METHOD:PUBLISH
X-WR-CALNAME:BGSQD
X-ORIGINAL-URL:https://www.bgsqd.com
X-WR-CALDESC:Events for BGSQD
REFRESH-INTERVAL;VALUE=DURATION:PT1H
X-Robots-Tag:noindex
X-PUBLISHED-TTL:PT1H
BEGIN:VTIMEZONE
TZID:America/New_York
BEGIN:DAYLIGHT
TZOFFSETFROM:-0500
TZOFFSETTO:-0400
TZNAME:EDT
DTSTART:20140309T070000
END:DAYLIGHT
BEGIN:STANDARD
TZOFFSETFROM:-0400
TZOFFSETTO:-0500
TZNAME:EST
DTSTART:20141102T060000
END:STANDARD
BEGIN:DAYLIGHT
TZOFFSETFROM:-0500
TZOFFSETTO:-0400
TZNAME:EDT
DTSTART:20150308T070000
END:DAYLIGHT
BEGIN:STANDARD
TZOFFSETFROM:-0400
TZOFFSETTO:-0500
TZNAME:EST
DTSTART:20151101T060000
END:STANDARD
BEGIN:DAYLIGHT
TZOFFSETFROM:-0500
TZOFFSETTO:-0400
TZNAME:EDT
DTSTART:20160313T070000
END:DAYLIGHT
BEGIN:STANDARD
TZOFFSETFROM:-0400
TZOFFSETTO:-0500
TZNAME:EST
DTSTART:20161106T060000
END:STANDARD
END:VTIMEZONE
BEGIN:VEVENT
DTSTART;TZID=America/New_York:20151228T190000
DTEND;TZID=America/New_York:20151228T213000
DTSTAMP:20260424T191800
CREATED:20151221T182003Z
LAST-MODIFIED:20151221T182140Z
UID:5659-1451329200-1451338200@www.bgsqd.com
SUMMARY:Union Square Slam presents MCKENDY FILS-AIME and the HOLIDAY WHAT? Theme Slam
DESCRIPTION:  \nUnion Square Slam presents MCKENDY FILS-AIME and the HOLIDAY WHAT? Theme Slam. \nNeed a break from all that Holiday Cheer? Got some choice words for the streetcorner Santa incessently ringing that tinny bell? Come on down to Union Square Slam for our Holiday What? theme slam\, with none other than the brilliant boss McKendy Fils-Aime\, hosted by Joanna Hoffman!! \n(Please note: the Bureau is closed on Mondays. We open at 6 PM on Mondays for the Union Square Slam.)  \n6pm: Free Writing Workshop with Sara Emily Kuntz\n7:00: Sign-ups\n7:30: Open Mic\n8:00pm: Feature\n8:30pm: Slam \n  \nBureau of General Services-Queer Division\n(located in the LGBT Center\, 208 W 13th St\, #210)\n$5 // ALL AGES // 18 and under FREE\n \nAbout our Feature: \nMckendy Fils-Aime hails from Manchester\, NH. He is the author of three self-published books of poetry and is currently working on a fourth. He is one of the organizers behind Slam Free or Die\, NH’s most popular poetry open mic. The only thing Mckendy likes as much as poetry is his sneaker collection. \n  \nAbout our Slam: \nFor many of us\, holiday season make us have ALL THE FEELINGS. Here’s a mic: let’s hear it!!! Dust off all your praise poems\, odes\, rants\, gripes\, celebrations\, durges\, toasts and bones to pick with the holidays\, and bring them all to us! Or write some new ones! Or make them up on the spot! \nAll slammers who are competing to represent Union Square Slam nationally in 2016 and beyond\, at either IWPS\, WOWPS\, or as part of the Union Square Slam Nationals Team\, MUST participate in BOTH a New Shit Slam and a Theme Slam at any point during the slam season. (9/14/15 – 4/28/15). You may compete in any or all of these slams\, whether or not you intend to go out for the team\, however\, preference may be given to competitors that have qualified for Semis or Finals.\n \n::THEME SLAMS:: \nWe have a variety of Theme Slams\, meant to introduce different artistic elements\, challenges\, and inspiration to our work. Points will be recorded for the sake of naming a “winner”\, however\, these points do not count towards your total score for the quarter. Your participation in one Theme slam meets your requirement for Final Stage Participation. All theme slams will take up to 8 competitors\, and will be ranked in an 8-5-3 cumulative fashion. Each round has a 3 min time limit unless otherwise stated. \n  \n  \n  \n  \n 
URL:https://www.bgsqd.com/event/uss-12282015/
LOCATION:NY
ATTACH;FMTTYPE=image/jpeg:https://www.bgsqd.com/wp-content/uploads/2015/12/USS-12_28.jpg
END:VEVENT
END:VCALENDAR