BEGIN:VCALENDAR
VERSION:2.0
PRODID:-//BGSQD - ECPv6.15.20//NONSGML v1.0//EN
CALSCALE:GREGORIAN
METHOD:PUBLISH
X-ORIGINAL-URL:https://www.bgsqd.com
X-WR-CALDESC:Events for BGSQD
REFRESH-INTERVAL;VALUE=DURATION:PT1H
X-Robots-Tag:noindex
X-PUBLISHED-TTL:PT1H
BEGIN:VTIMEZONE
TZID:America/New_York
BEGIN:DAYLIGHT
TZOFFSETFROM:-0500
TZOFFSETTO:-0400
TZNAME:EDT
DTSTART:20140309T070000
END:DAYLIGHT
BEGIN:STANDARD
TZOFFSETFROM:-0400
TZOFFSETTO:-0500
TZNAME:EST
DTSTART:20141102T060000
END:STANDARD
BEGIN:DAYLIGHT
TZOFFSETFROM:-0500
TZOFFSETTO:-0400
TZNAME:EDT
DTSTART:20150308T070000
END:DAYLIGHT
BEGIN:STANDARD
TZOFFSETFROM:-0400
TZOFFSETTO:-0500
TZNAME:EST
DTSTART:20151101T060000
END:STANDARD
BEGIN:DAYLIGHT
TZOFFSETFROM:-0500
TZOFFSETTO:-0400
TZNAME:EDT
DTSTART:20160313T070000
END:DAYLIGHT
BEGIN:STANDARD
TZOFFSETFROM:-0400
TZOFFSETTO:-0500
TZNAME:EST
DTSTART:20161106T060000
END:STANDARD
END:VTIMEZONE
BEGIN:VEVENT
DTSTART;TZID=America/New_York:20151115T190000
DTEND;TZID=America/New_York:20151115T203000
DTSTAMP:20260425T155638
CREATED:20151023T191645Z
LAST-MODIFIED:20151023T191645Z
UID:5453-1447614000-1447619400@www.bgsqd.com
SUMMARY:True Religion: Novelist Christopher Bram in Conversation with J.L. Weinberg
DESCRIPTION:  \nA reading and discussion of True Religion\, J.L. Weinberg‘s debut novel about the supernatural and spirituality in the New Age\, with a distinctly gay twist. \nAn unexpected encounter with an otherworldly spirit at a holiday party in the Orenda Valley sends Seth Davis\, a gay journalist from Manhattan\, on a profound religious journey. Along the way\, Seth stumbles into a quarreling coven of witches in the charming tourist town of Hope Springs\, Pennsylvania\, formerly known as Hell’s Ferry\, and one of the most haunted destinations in America. As Seth learns more of the town’s remarkable history\, he also uncovers his own shocking past\, and in order to seek peace for his troubled soul\, he must determine the fate of the coven\, the town\, and the entire Orenda Valley. True Religion is a genre-bending fusion of paranormal horror\, spiritual therapy\, American history\, and New Age enlightenment. \nSuggested donation of $5 to benefit the Bureau. No one turned away for lack of funds. \nPlease let us know if you would like the Bureau to reserve a copy of True Religion: contact@bgsqd.com \n  \n  \n \nJ.L. Weinberg was born and raised in San Francisco. He moved to New York City to become a film critic\, but was sidetracked by stints as a model and actor. He returned to movie journalism\, writing for New York\, Premiere\, The Village Voice\, Interview\, American Cinematographer\, The Advocate\, and The New York Native. “True Religion” is his first novel. \n  \n \nChristopher Bram is the author of eleven books including the novel that became the movie “Gods and Monsters.” His most recent book is “Eminent Outlaws: The Gay Writers Who Changed America.” \n  \n  \n 
URL:https://www.bgsqd.com/event/true-religion/
LOCATION:NY
ATTACH;FMTTYPE=image/jpeg:https://www.bgsqd.com/wp-content/uploads/2015/10/True-Religion-Cover_500.jpg
END:VEVENT
END:VCALENDAR