BEGIN:VCALENDAR
VERSION:2.0
PRODID:-//BGSQD - ECPv6.15.20//NONSGML v1.0//EN
CALSCALE:GREGORIAN
METHOD:PUBLISH
X-ORIGINAL-URL:https://www.bgsqd.com
X-WR-CALDESC:Events for BGSQD
REFRESH-INTERVAL;VALUE=DURATION:PT1H
X-Robots-Tag:noindex
X-PUBLISHED-TTL:PT1H
BEGIN:VTIMEZONE
TZID:America/New_York
BEGIN:DAYLIGHT
TZOFFSETFROM:-0500
TZOFFSETTO:-0400
TZNAME:EDT
DTSTART:20140309T070000
END:DAYLIGHT
BEGIN:STANDARD
TZOFFSETFROM:-0400
TZOFFSETTO:-0500
TZNAME:EST
DTSTART:20141102T060000
END:STANDARD
BEGIN:DAYLIGHT
TZOFFSETFROM:-0500
TZOFFSETTO:-0400
TZNAME:EDT
DTSTART:20150308T070000
END:DAYLIGHT
BEGIN:STANDARD
TZOFFSETFROM:-0400
TZOFFSETTO:-0500
TZNAME:EST
DTSTART:20151101T060000
END:STANDARD
BEGIN:DAYLIGHT
TZOFFSETFROM:-0500
TZOFFSETTO:-0400
TZNAME:EDT
DTSTART:20160313T070000
END:DAYLIGHT
BEGIN:STANDARD
TZOFFSETFROM:-0400
TZOFFSETTO:-0500
TZNAME:EST
DTSTART:20161106T060000
END:STANDARD
END:VTIMEZONE
BEGIN:VEVENT
DTSTART;TZID=America/New_York:20151022T183000
DTEND;TZID=America/New_York:20151022T200000
DTSTAMP:20260425T111007
CREATED:20151005T175805Z
LAST-MODIFIED:20151005T175806Z
UID:5378-1445538600-1445544000@www.bgsqd.com
SUMMARY:Bi Book Club: Call It Wonder\, by Kate Evans
DESCRIPTION:  \nThe Bi Book Club meets monthly to discuss bi-themed books and the issues they raise. \nDay/Time: Oct 22 (4th Thursdays)\, 6:30-8pm. Dinner after nearby (so far\, we always go to Village Den.) Nov & Dec dates conflict with the holidays so we are working on alternative dates. \nOur book for Oct: Call It Wonder: an odyssey of love\, sex. spirit\, and travel a new memoir by Kate Evans. (We suggest you buy or order your copy from our host\, BGSQD. Write to contact@bgsqd.com \nPick out some phrases\, paragraphs or scenes that you’d like to discuss\, or just join in on our read-a-long. Give us your critique of the book. What worked\, what didn’t\, how was bisexuality represented? If you haven’t had time to finish the readings\, come anyway because we read passages from the book aloud for discussion. As usual\, we’ll also be using the text as a jumping off point to further discussion of bisexual issues and personal experiences. \nSuggested donation of $5 to benefit the Bureau. No one turned away for lack of funds. \nRSVP on Meetup.com \n  \n 
URL:https://www.bgsqd.com/event/bi-book-club-call-it-wonder-by-kate-evans/
LOCATION:NY
ATTACH;FMTTYPE=image/jpeg:https://www.bgsqd.com/wp-content/uploads/2015/10/call-it-wonder.jpg
END:VEVENT
END:VCALENDAR