BEGIN:VCALENDAR
VERSION:2.0
PRODID:-//BGSQD - ECPv6.15.20//NONSGML v1.0//EN
CALSCALE:GREGORIAN
METHOD:PUBLISH
X-ORIGINAL-URL:https://www.bgsqd.com
X-WR-CALDESC:Events for BGSQD
REFRESH-INTERVAL;VALUE=DURATION:PT1H
X-Robots-Tag:noindex
X-PUBLISHED-TTL:PT1H
BEGIN:VTIMEZONE
TZID:America/New_York
BEGIN:DAYLIGHT
TZOFFSETFROM:-0500
TZOFFSETTO:-0400
TZNAME:EDT
DTSTART:20140309T070000
END:DAYLIGHT
BEGIN:STANDARD
TZOFFSETFROM:-0400
TZOFFSETTO:-0500
TZNAME:EST
DTSTART:20141102T060000
END:STANDARD
BEGIN:DAYLIGHT
TZOFFSETFROM:-0500
TZOFFSETTO:-0400
TZNAME:EDT
DTSTART:20150308T070000
END:DAYLIGHT
BEGIN:STANDARD
TZOFFSETFROM:-0400
TZOFFSETTO:-0500
TZNAME:EST
DTSTART:20151101T060000
END:STANDARD
BEGIN:DAYLIGHT
TZOFFSETFROM:-0500
TZOFFSETTO:-0400
TZNAME:EDT
DTSTART:20160313T070000
END:DAYLIGHT
BEGIN:STANDARD
TZOFFSETFROM:-0400
TZOFFSETTO:-0500
TZNAME:EST
DTSTART:20161106T060000
END:STANDARD
END:VTIMEZONE
BEGIN:VEVENT
DTSTART;TZID=America/New_York:20151021T190000
DTEND;TZID=America/New_York:20151021T220000
DTSTAMP:20260425T183439
CREATED:20150927T190016Z
LAST-MODIFIED:20150927T190712Z
UID:5362-1445454000-1445464800@www.bgsqd.com
SUMMARY:Queer Collage Party
DESCRIPTION:  \nThe first Queer Collage Party\, organized by friend of the Bureau Paul VanDeCarr\, took place at the Bureau in June\, and it was such a hit that we’re doing it again! We provide the glue sticks and paper\, you provide the pictures. Everyone who attends should bring at least one magazine or book or a bunch of pictures that you’ll contribute to the group. Each person can make their own collage(s)\, or team up with others! You can keep your own collage(s)\, but don’t expect to walk away with your magazine intact! The spirit here is fun and sharing. Attend for part or all of the evening. You are encouraged but not required to bring a little snack to share — chips\, tangerines\, grapes\, hummus\, whatever. We’ll have music playing (not live\, though). Beer\, wine\, and sparkling water will be available for cash donations. \nFacilitated by dear friend of the Bureau David Christie \nSuggested donation of $5 to benefit the Bureau. No one turned away for lack of funds. \n  \n  \n  \n 
URL:https://www.bgsqd.com/event/queer-collage-party-2/
LOCATION:NY
ATTACH;FMTTYPE=image/jpeg:https://www.bgsqd.com/wp-content/uploads/2015/05/queer-collage-party-Paul-VanDeCarr.jpeg
END:VEVENT
END:VCALENDAR