BEGIN:VCALENDAR
VERSION:2.0
PRODID:-//BGSQD - ECPv6.15.20//NONSGML v1.0//EN
CALSCALE:GREGORIAN
METHOD:PUBLISH
X-WR-CALNAME:BGSQD
X-ORIGINAL-URL:https://www.bgsqd.com
X-WR-CALDESC:Events for BGSQD
REFRESH-INTERVAL;VALUE=DURATION:PT1H
X-Robots-Tag:noindex
X-PUBLISHED-TTL:PT1H
BEGIN:VTIMEZONE
TZID:America/New_York
BEGIN:DAYLIGHT
TZOFFSETFROM:-0500
TZOFFSETTO:-0400
TZNAME:EDT
DTSTART:20140309T070000
END:DAYLIGHT
BEGIN:STANDARD
TZOFFSETFROM:-0400
TZOFFSETTO:-0500
TZNAME:EST
DTSTART:20141102T060000
END:STANDARD
BEGIN:DAYLIGHT
TZOFFSETFROM:-0500
TZOFFSETTO:-0400
TZNAME:EDT
DTSTART:20150308T070000
END:DAYLIGHT
BEGIN:STANDARD
TZOFFSETFROM:-0400
TZOFFSETTO:-0500
TZNAME:EST
DTSTART:20151101T060000
END:STANDARD
BEGIN:DAYLIGHT
TZOFFSETFROM:-0500
TZOFFSETTO:-0400
TZNAME:EDT
DTSTART:20160313T070000
END:DAYLIGHT
BEGIN:STANDARD
TZOFFSETFROM:-0400
TZOFFSETTO:-0500
TZNAME:EST
DTSTART:20161106T060000
END:STANDARD
END:VTIMEZONE
BEGIN:VEVENT
DTSTART;TZID=America/New_York:20151017T200000
DTEND;TZID=America/New_York:20151017T220000
DTSTAMP:20260425T105813
CREATED:20150904T220336Z
LAST-MODIFIED:20150929T192555Z
UID:5293-1445112000-1445119200@www.bgsqd.com
SUMMARY:Trans Poets Bloom: A Launch Party For Vetch Poetry
DESCRIPTION:  \nVetch is a new journal of trans poetry and poetics–one of the first venues that will publish only poems by trans poets. Come out to the first issue launch party to celebrate with us! There will be readings by editors and contributors\, as well as an atmosphere of giddy joy. \nReception will begin at 8 PM\, readings at 8:30. \nSuggested donation of $5 to benefit the Bureau. No one turned away for lack of funds. \n  \nReaders: \n  \nKay Gabriel finished her BA at Columbia University in 2013 and won a Euretta J. Kellett fellowship for postgraduate study at Cambridge\, which she used to spend a year writing dykily about Sappho. She is currently a PhD candidate in the Princeton University classics department. Her poetry has appeared in Industrial Lunch. \n  \n  \nStephen Ira’s poetry and short fiction have appeared in The Collection: Short Fiction from the Transgender Vanguard\, Spot Literary Magazine\, the St. Sebastian Review\, and Specter Magazine\, among others.  In 2013\, he was selected as one of Lambda Literary’s summer fellows in poetry.  In 2014\, he was featured as a guest star in La Mama’s SQUIRTS: New Voices in Queer Performance. He graduated from Sarah Lawrence College in 2014. \n \n  \nLiam O’Brien grew up on a small island outside Seattle. In 2012\, he graduated from Sarah Lawrence College\, where he received the Stanley and Evelyn Lipkin Prize for Poetry and the Nancy Lynn Schwartz Prize for Fiction. His work can be found in print in Unsaid Magazine\, and online at The Offending Adam\, Blackbird VCU\, Buffalo Almanack\, and Industrial Lunch. He is currently pursuing his MFA at the Iowa Writer’s Workshop. \n \n  \nGrey Vild’s work has appeared in THEM\, Elderly\, and Hue. He has a chapbook forthcoming from EOAGH and is the happy recipient of the Queer Art Mentorship Fellowship 2014 with Stacy Szymaszek. \n\n \n  \nRebecca Bedell is an English major in her junior year at Princeton University\, hoping to complete a creative writing certificate in poetry.  She fantasizes about further bastardizing the Whitman-Ginsberg poetic lineage to a stark and confessional trans poetics\, and hasn’t been able to write about anything other than being trans for a while.  Her work was published in a few teen collections which aren’t very relevant since they used her old name.\n  \n  \n  \n  \n  \n  \n  \n 
URL:https://www.bgsqd.com/event/trans-poets-bloom-a-launch-party-for-vetch-poetry/
LOCATION:NY
ATTACH;FMTTYPE=image/jpeg:https://www.bgsqd.com/wp-content/uploads/2015/09/Vetch-Cover.jpg
END:VEVENT
END:VCALENDAR