BEGIN:VCALENDAR
VERSION:2.0
PRODID:-//BGSQD - ECPv6.15.20//NONSGML v1.0//EN
CALSCALE:GREGORIAN
METHOD:PUBLISH
X-ORIGINAL-URL:https://www.bgsqd.com
X-WR-CALDESC:Events for BGSQD
REFRESH-INTERVAL;VALUE=DURATION:PT1H
X-Robots-Tag:noindex
X-PUBLISHED-TTL:PT1H
BEGIN:VTIMEZONE
TZID:America/New_York
BEGIN:DAYLIGHT
TZOFFSETFROM:-0500
TZOFFSETTO:-0400
TZNAME:EDT
DTSTART:20140309T070000
END:DAYLIGHT
BEGIN:STANDARD
TZOFFSETFROM:-0400
TZOFFSETTO:-0500
TZNAME:EST
DTSTART:20141102T060000
END:STANDARD
BEGIN:DAYLIGHT
TZOFFSETFROM:-0500
TZOFFSETTO:-0400
TZNAME:EDT
DTSTART:20150308T070000
END:DAYLIGHT
BEGIN:STANDARD
TZOFFSETFROM:-0400
TZOFFSETTO:-0500
TZNAME:EST
DTSTART:20151101T060000
END:STANDARD
BEGIN:DAYLIGHT
TZOFFSETFROM:-0500
TZOFFSETTO:-0400
TZNAME:EDT
DTSTART:20160313T070000
END:DAYLIGHT
BEGIN:STANDARD
TZOFFSETFROM:-0400
TZOFFSETTO:-0500
TZNAME:EST
DTSTART:20161106T060000
END:STANDARD
END:VTIMEZONE
BEGIN:VEVENT
DTSTART;TZID=America/New_York:20151007T190000
DTEND;TZID=America/New_York:20151007T220000
DTSTAMP:20260425T132418
CREATED:20150902T195058Z
LAST-MODIFIED:20150902T195143Z
UID:5273-1444244400-1444255200@www.bgsqd.com
SUMMARY:An evening with RJ Martin reading from his debut novel THE BODY
DESCRIPTION:  \nWhat happens when the lines between spirit and flesh begin to blur? \nIn the Adirondack town of Lake Henry\, NY\, altar boy Jonah Gregory\, fifteen\, dreams of becoming a priest. Aside from being a spiritual comfort to his fellow man\, Jonah pursues his vocation because he knows his special devotion to the Lord is mutual since he believes Christ is gay too. When his older sister\, Angie\, introduces him to Rusty Kincaid\, the handsome\, closeted son of a romance novelist and a dead ringer for the messiah\, Jonah is thrust into a physical-spiritual love triangle. Jonah knows he must choose between them and the path each one represents\, but he can’t look at one without seeing the other\, and neither seems willing to give him up. \nJonah is guided on his quest by Rusty’s famous mother\, Jace Kincaid\, his ill-tempered pastor from Brooklyn\, his frustrated parents\, and the two men who have captured his heart: Rusty and the Lord. \n  \n  \nRJ Martin grew up in the foothills of the Adirondack\, attended Skidmore College and Columbia University\, and other than a brief stint in Los Angeles\, he has been a Brooklynite for most of his adult life. A true Gemini he is as proud of being part of the LGBT community as he is of being a Christian\, as happy at a baseball game as a Broadway musical\, and as appreciative of a good pinot noir as a frothy IPA. He would never want to be without his dog\, faith\, books\, friends\, writing\, hamburgers\, bike\, and family. RJ also blogs for the Huffington Post. \n  \n  \n 
URL:https://www.bgsqd.com/event/rj-martin/
LOCATION:NY
ATTACH;FMTTYPE=image/jpeg:https://www.bgsqd.com/wp-content/uploads/2015/09/RJ-Martin-The-Body.jpg
END:VEVENT
END:VCALENDAR