BEGIN:VCALENDAR
VERSION:2.0
PRODID:-//BGSQD - ECPv6.15.20//NONSGML v1.0//EN
CALSCALE:GREGORIAN
METHOD:PUBLISH
X-WR-CALNAME:BGSQD
X-ORIGINAL-URL:https://www.bgsqd.com
X-WR-CALDESC:Events for BGSQD
REFRESH-INTERVAL;VALUE=DURATION:PT1H
X-Robots-Tag:noindex
X-PUBLISHED-TTL:PT1H
BEGIN:VTIMEZONE
TZID:America/New_York
BEGIN:DAYLIGHT
TZOFFSETFROM:-0500
TZOFFSETTO:-0400
TZNAME:EDT
DTSTART:20140309T070000
END:DAYLIGHT
BEGIN:STANDARD
TZOFFSETFROM:-0400
TZOFFSETTO:-0500
TZNAME:EST
DTSTART:20141102T060000
END:STANDARD
BEGIN:DAYLIGHT
TZOFFSETFROM:-0500
TZOFFSETTO:-0400
TZNAME:EDT
DTSTART:20150308T070000
END:DAYLIGHT
BEGIN:STANDARD
TZOFFSETFROM:-0400
TZOFFSETTO:-0500
TZNAME:EST
DTSTART:20151101T060000
END:STANDARD
BEGIN:DAYLIGHT
TZOFFSETFROM:-0500
TZOFFSETTO:-0400
TZNAME:EDT
DTSTART:20160313T070000
END:DAYLIGHT
BEGIN:STANDARD
TZOFFSETFROM:-0400
TZOFFSETTO:-0500
TZNAME:EST
DTSTART:20161106T060000
END:STANDARD
END:VTIMEZONE
BEGIN:VEVENT
DTSTART;TZID=America/New_York:20151004T160000
DTEND;TZID=America/New_York:20151004T190000
DTSTAMP:20260425T105047
CREATED:20150912T182521Z
LAST-MODIFIED:20150912T182657Z
UID:5320-1443974400-1443985200@www.bgsqd.com
SUMMARY:SHAME MONSTER: Dan Fishback's Queer Jewish Anti-Zionist Trip to Israel/Palestine
DESCRIPTION:  \n\nEarlier this summer\, playwright Dan Fishback traveled to Israel/Palestine to do research for an upcoming theater project. He spent a month meeting with non-violent Palestinian activists\, Israeli settlers and others\, ending with a surreal visit to Tel Aviv during Pride Week. Throughout his travels\, Fishback also “interviewed” many Israeli and Palestinian men on Grindr. In this multimedia talk\, he will share stories from his trip\, bear witness to the realities of apartheid\, and offer thoughts on BDS\, censorship and the various ways U.S. Americans engage with the ongoing occupation of Palestine.Fishback’s travels were made possible by a research grant from the Robert Rauschenberg Foundation.\n \nSuggested donation of $5 to benefit the Bureau.\nNo one turned away for lack of funds. \nDan Fishback has been writing and performing in NYC since 2003. Time Out New York called his play The Material World “the best downtown musical in years\,” and named it one of the Top Ten Plays of 2012. He is the director of the Helix Queer Performance Network\, through which he curates and produces many series\, workshops and public events\, including La MaMa’s SQUIRTS. Fishback has released five albums\, both solo and with his band Cheese On Bread\, which has toured extensively in Europe and North America. Previous performances include “thirtynothing\,” “You Will Experience Silence\,” “Please Let Me Love You” and “Waiting for Barbara\,” most of which have been presented at Dixon Place. He has received grants and residencies from the Doris Duke Charitable Trust\, Franklin Furnace\, the Six Points Fellowship for Emerging Jewish Artists\, Kelly Writers House\, the Hemispheric Institute of Performance & Politics\, Yaddo\, the MacDowell Colony\, the Kimmel Harding Nelson Center and BAX/Brooklyn Arts Exchange\, where he has been “in residence” in some form or another since 2010. His upcoming play\, “Rubble Rubble\,” is based on his trip 2015 to Israel/Palestine\, which was funded by the Robert Rauschenberg Foundation. \n\n 
URL:https://www.bgsqd.com/event/shame-monster/
LOCATION:NY
ATTACH;FMTTYPE=image/jpeg:https://www.bgsqd.com/wp-content/uploads/2015/09/Fishback-Pic-for-Bureau.jpg
END:VEVENT
END:VCALENDAR