BEGIN:VCALENDAR
VERSION:2.0
PRODID:-//BGSQD - ECPv6.15.20//NONSGML v1.0//EN
CALSCALE:GREGORIAN
METHOD:PUBLISH
X-WR-CALNAME:BGSQD
X-ORIGINAL-URL:https://www.bgsqd.com
X-WR-CALDESC:Events for BGSQD
REFRESH-INTERVAL;VALUE=DURATION:PT1H
X-Robots-Tag:noindex
X-PUBLISHED-TTL:PT1H
BEGIN:VTIMEZONE
TZID:America/New_York
BEGIN:DAYLIGHT
TZOFFSETFROM:-0500
TZOFFSETTO:-0400
TZNAME:EDT
DTSTART:20140309T070000
END:DAYLIGHT
BEGIN:STANDARD
TZOFFSETFROM:-0400
TZOFFSETTO:-0500
TZNAME:EST
DTSTART:20141102T060000
END:STANDARD
BEGIN:DAYLIGHT
TZOFFSETFROM:-0500
TZOFFSETTO:-0400
TZNAME:EDT
DTSTART:20150308T070000
END:DAYLIGHT
BEGIN:STANDARD
TZOFFSETFROM:-0400
TZOFFSETTO:-0500
TZNAME:EST
DTSTART:20151101T060000
END:STANDARD
BEGIN:DAYLIGHT
TZOFFSETFROM:-0500
TZOFFSETTO:-0400
TZNAME:EDT
DTSTART:20160313T070000
END:DAYLIGHT
BEGIN:STANDARD
TZOFFSETFROM:-0400
TZOFFSETTO:-0500
TZNAME:EST
DTSTART:20161106T060000
END:STANDARD
END:VTIMEZONE
BEGIN:VEVENT
DTSTART;TZID=America/New_York:20151003T190000
DTEND;TZID=America/New_York:20151003T220000
DTSTAMP:20260425T181117
CREATED:20150912T171656Z
LAST-MODIFIED:20150913T211432Z
UID:5316-1443898800-1443909600@www.bgsqd.com
SUMMARY:DIRT\, SEX\, PASSION!
DESCRIPTION:  \nThe Bureau is very pleased to welcome back the one and only Rumi Missabu for Dirt\, Sex\, Passion! A benefit for the Bureau. \nPromises to be nothing short of a fun-filled multi-media romp and\nbizarre conversation with actor\, director\, producer\, mentor\,\ncounterculture figure & original Cockette RUMI MISSABU who ruminates\non such subjects as how he went from Disney to soft core porn in a\nspan of just three short years\, what happened when he touched Andy\nWarhol\, why he kicked Allen Ginsberg out of his house\, how he\naccidentally snubbed Jean Paul Gaultier in London\, why Ethel Merman\ncalled security on him at Macy’s\, the pitfalls of having sex with your\nstalker and what Rasputin’s daughter told him about her very first job\nin America.\nAll this and much more with a cast of characters with everybody from\nSally Field to Tina Turner to Jackie Curtis to Liberace to Jane\nRussell! \n  \nDIRT\, SEX\, PASSION! is a benefit for the Bureau of General Services—Queer Division. A donation of $10 is suggested. \nNo one turned away for lack of funds. \n  \n  \n  \n 
URL:https://www.bgsqd.com/event/dirt-sex-passion/
LOCATION:NY
ATTACH;FMTTYPE=image/jpeg:https://www.bgsqd.com/wp-content/uploads/2015/09/Rumi.jpg
END:VEVENT
END:VCALENDAR