BEGIN:VCALENDAR
VERSION:2.0
PRODID:-//BGSQD - ECPv6.15.20//NONSGML v1.0//EN
CALSCALE:GREGORIAN
METHOD:PUBLISH
X-ORIGINAL-URL:https://www.bgsqd.com
X-WR-CALDESC:Events for BGSQD
REFRESH-INTERVAL;VALUE=DURATION:PT1H
X-Robots-Tag:noindex
X-PUBLISHED-TTL:PT1H
BEGIN:VTIMEZONE
TZID:America/New_York
BEGIN:DAYLIGHT
TZOFFSETFROM:-0500
TZOFFSETTO:-0400
TZNAME:EDT
DTSTART:20140309T070000
END:DAYLIGHT
BEGIN:STANDARD
TZOFFSETFROM:-0400
TZOFFSETTO:-0500
TZNAME:EST
DTSTART:20141102T060000
END:STANDARD
BEGIN:DAYLIGHT
TZOFFSETFROM:-0500
TZOFFSETTO:-0400
TZNAME:EDT
DTSTART:20150308T070000
END:DAYLIGHT
BEGIN:STANDARD
TZOFFSETFROM:-0400
TZOFFSETTO:-0500
TZNAME:EST
DTSTART:20151101T060000
END:STANDARD
BEGIN:DAYLIGHT
TZOFFSETFROM:-0500
TZOFFSETTO:-0400
TZNAME:EDT
DTSTART:20160313T070000
END:DAYLIGHT
BEGIN:STANDARD
TZOFFSETFROM:-0400
TZOFFSETTO:-0500
TZNAME:EST
DTSTART:20161106T060000
END:STANDARD
END:VTIMEZONE
BEGIN:VEVENT
DTSTART;TZID=America/New_York:20150926T190000
DTEND;TZID=America/New_York:20150926T213000
DTSTAMP:20260425T123927
CREATED:20150913T192355Z
LAST-MODIFIED:20150913T192355Z
UID:5330-1443294000-1443303000@www.bgsqd.com
SUMMARY:Under the Mink. A Novel of Drag Kings and Queens (and the Mob)
DESCRIPTION:  \nUnder the Mink is a historical novel\, based on little-known facts about the Mafia’s involvement in a gay entertainment subculture that flourished in mob-owned nightclubs in Greenwich Village in the 1940s-50s. The author was fortunate enough to know some of the performers. A short film opens the program\, followed by tall tales\, a show of vintage images\, and a reading from the novel. \nSuggested donation of $5 to benefit the Bureau. No one turned away for lack of funds. \n  \n  \n \nLisa E. Davis has lived in Greenwich Village for 40 years and loves to write about it. With a PhD in Comparative Literature\, she worked for years in SUNY and CUNY\, and at the Center for Puerto Rican Studies\, Hunter College. Lately\, her writing has appeared in anthologies and periodicals dedicated to LGBTQ culture. Her historical novel Under the Mink\, about drag kings and queens of yesteryear\, grew out of her long-time friendship with some of them. The new edition (2015) has a photo insert with vintage images. A second book in progress\, The FBI’s Lesbian\, is the true story of a notorious Village lesbian who worked undercover for the FBI in the American Communist Party. Lisa has a daily Iyengar yoga practice. \n  \n  \n 
URL:https://www.bgsqd.com/event/under-the-mink/
LOCATION:NY
ATTACH;FMTTYPE=image/jpeg:https://www.bgsqd.com/wp-content/uploads/2015/09/Lisa-DavisBuddyKent.jpg
END:VEVENT
END:VCALENDAR