BEGIN:VCALENDAR
VERSION:2.0
PRODID:-//BGSQD - ECPv6.15.20//NONSGML v1.0//EN
CALSCALE:GREGORIAN
METHOD:PUBLISH
X-ORIGINAL-URL:https://www.bgsqd.com
X-WR-CALDESC:Events for BGSQD
REFRESH-INTERVAL;VALUE=DURATION:PT1H
X-Robots-Tag:noindex
X-PUBLISHED-TTL:PT1H
BEGIN:VTIMEZONE
TZID:America/New_York
BEGIN:DAYLIGHT
TZOFFSETFROM:-0500
TZOFFSETTO:-0400
TZNAME:EDT
DTSTART:20140309T070000
END:DAYLIGHT
BEGIN:STANDARD
TZOFFSETFROM:-0400
TZOFFSETTO:-0500
TZNAME:EST
DTSTART:20141102T060000
END:STANDARD
BEGIN:DAYLIGHT
TZOFFSETFROM:-0500
TZOFFSETTO:-0400
TZNAME:EDT
DTSTART:20150308T070000
END:DAYLIGHT
BEGIN:STANDARD
TZOFFSETFROM:-0400
TZOFFSETTO:-0500
TZNAME:EST
DTSTART:20151101T060000
END:STANDARD
BEGIN:DAYLIGHT
TZOFFSETFROM:-0500
TZOFFSETTO:-0400
TZNAME:EDT
DTSTART:20160313T070000
END:DAYLIGHT
BEGIN:STANDARD
TZOFFSETFROM:-0400
TZOFFSETTO:-0500
TZNAME:EST
DTSTART:20161106T060000
END:STANDARD
END:VTIMEZONE
BEGIN:VEVENT
DTSTART;TZID=America/New_York:20150924T190000
DTEND;TZID=America/New_York:20150924T220000
DTSTAMP:20260425T123947
CREATED:20150812T173910Z
LAST-MODIFIED:20150813T143331Z
UID:5247-1443121200-1443132000@www.bgsqd.com
SUMMARY:Yarrott Benz reads from his memoir The Bone Bridge: A Brother’s Story
DESCRIPTION:  \nYarrott Benz reads from his recently published memoir The Bone Bridge: A Brother’s Story. This is the harrowing account of teenage brothers\, as different as night and day\, trapped together in a dramatic medical dilemma—a modern miracle and a modern nightmare. Despite painful and violent conflicts\, Yarrott\, gay\, must bear the full responsibility of keeping his straight\, homophobic brother alive. The only case like it in history\, the story unfolds over thirteen years as the two brothers navigate through their enmeshed lives with all that they feel for each other: hatred and love\, rejection and acceptance\, disdain and respect. In our world of the individual\, where careerism\, ego\, and personal gain are key\, The Bone Bridge describes a vastly different human situation and also one in which the reader invariably asks\, What would I have done? \n  \nChristopher Bram will introduce Yarrott Benz. \n  \nSuggested donation of $5 to benefit the Bureau \n(No one turned away for lack of funds.) \n  \n \nArtist\, memoirist\, and essayist Yarrott Benz has written about architecture’s seminal role in art history and the psychology of visual trends. Having taught for many years in New York City and in Los Angeles\, he now lives on a farm outside Lexington\, Kentucky. \n  \n  \n \nChristopher Bram is the author of\, among others\, FATHER OF FRANKENSTEIN\, which was adapted in the film GODS AND MONSTERS. His recent book EMINENT OUTLAWS: THE GAY WRITERS WHO CHANGED AMERICA\, shows how central gay literature is in the American canon. \n  \n 
URL:https://www.bgsqd.com/event/yarrott-benz/
LOCATION:NY
ATTACH;FMTTYPE=image/jpeg:https://www.bgsqd.com/wp-content/uploads/2015/08/Yarrot-Benz-book-cover.jpg
END:VEVENT
END:VCALENDAR