BEGIN:VCALENDAR
VERSION:2.0
PRODID:-//BGSQD - ECPv6.15.20//NONSGML v1.0//EN
CALSCALE:GREGORIAN
METHOD:PUBLISH
X-ORIGINAL-URL:https://www.bgsqd.com
X-WR-CALDESC:Events for BGSQD
REFRESH-INTERVAL;VALUE=DURATION:PT1H
X-Robots-Tag:noindex
X-PUBLISHED-TTL:PT1H
BEGIN:VTIMEZONE
TZID:America/New_York
BEGIN:DAYLIGHT
TZOFFSETFROM:-0500
TZOFFSETTO:-0400
TZNAME:EDT
DTSTART:20140309T070000
END:DAYLIGHT
BEGIN:STANDARD
TZOFFSETFROM:-0400
TZOFFSETTO:-0500
TZNAME:EST
DTSTART:20141102T060000
END:STANDARD
BEGIN:DAYLIGHT
TZOFFSETFROM:-0500
TZOFFSETTO:-0400
TZNAME:EDT
DTSTART:20150308T070000
END:DAYLIGHT
BEGIN:STANDARD
TZOFFSETFROM:-0400
TZOFFSETTO:-0500
TZNAME:EST
DTSTART:20151101T060000
END:STANDARD
BEGIN:DAYLIGHT
TZOFFSETFROM:-0500
TZOFFSETTO:-0400
TZNAME:EDT
DTSTART:20160313T070000
END:DAYLIGHT
BEGIN:STANDARD
TZOFFSETFROM:-0400
TZOFFSETTO:-0500
TZNAME:EST
DTSTART:20161106T060000
END:STANDARD
END:VTIMEZONE
BEGIN:VEVENT
DTSTART;TZID=America/New_York:20150919T190000
DTEND;TZID=America/New_York:20150919T220000
DTSTAMP:20260425T123942
CREATED:20150911T223611Z
LAST-MODIFIED:20150911T223620Z
UID:5312-1442689200-1442700000@www.bgsqd.com
SUMMARY:James Baldwin: The Defiant One
DESCRIPTION:  \nJoin us for an evening focusing on the life and activism of James Baldwin\, organized by James Wright\, African-American scholar and union activist. \nPoet and author Alicia Dunnigan\, writer and librarian Stephan Likosky\, union activist Reginald Manning\, and James Wright will address the life\, work\, and activism of James Baldwin. \nThe evening will also include a screening of I Heard It Through the Grapevine (1982). \n“Produced and directed by Dick Fontaine and Pat Hartley\, this is a highly personal film essay written by James Baldwin about exactly who and what survived the civil rights movement. It features Baldwin\, his brother David\, Chinua Achebe\, Amiri Baraka\, and other friends Baldwin made “on that long\, long road’ through the sixties. Music by Stuff and a host of Southern voices.” (https://www.dickfontaine.com/1980page.html) \nSuggested donation of $5 to benefit the Bureau. No one turned away for lack of funds. \n  \n  \n  \n  \n  \n 
URL:https://www.bgsqd.com/event/james-baldwin-the-defiant-one/
LOCATION:NY
ATTACH;FMTTYPE=image/jpeg:https://www.bgsqd.com/wp-content/uploads/2015/09/James-Baldwin.jpg
END:VEVENT
END:VCALENDAR