BEGIN:VCALENDAR
VERSION:2.0
PRODID:-//BGSQD - ECPv6.15.20//NONSGML v1.0//EN
CALSCALE:GREGORIAN
METHOD:PUBLISH
X-ORIGINAL-URL:https://www.bgsqd.com
X-WR-CALDESC:Events for BGSQD
REFRESH-INTERVAL;VALUE=DURATION:PT1H
X-Robots-Tag:noindex
X-PUBLISHED-TTL:PT1H
BEGIN:VTIMEZONE
TZID:America/New_York
BEGIN:DAYLIGHT
TZOFFSETFROM:-0500
TZOFFSETTO:-0400
TZNAME:EDT
DTSTART:20140309T070000
END:DAYLIGHT
BEGIN:STANDARD
TZOFFSETFROM:-0400
TZOFFSETTO:-0500
TZNAME:EST
DTSTART:20141102T060000
END:STANDARD
BEGIN:DAYLIGHT
TZOFFSETFROM:-0500
TZOFFSETTO:-0400
TZNAME:EDT
DTSTART:20150308T070000
END:DAYLIGHT
BEGIN:STANDARD
TZOFFSETFROM:-0400
TZOFFSETTO:-0500
TZNAME:EST
DTSTART:20151101T060000
END:STANDARD
BEGIN:DAYLIGHT
TZOFFSETFROM:-0500
TZOFFSETTO:-0400
TZNAME:EDT
DTSTART:20160313T070000
END:DAYLIGHT
BEGIN:STANDARD
TZOFFSETFROM:-0400
TZOFFSETTO:-0500
TZNAME:EST
DTSTART:20161106T060000
END:STANDARD
END:VTIMEZONE
BEGIN:VEVENT
DTSTART;TZID=America/New_York:20150917T190000
DTEND;TZID=America/New_York:20150917T220000
DTSTAMP:20260425T124007
CREATED:20150808T202113Z
LAST-MODIFIED:20150808T202125Z
UID:5235-1442516400-1442527200@www.bgsqd.com
SUMMARY:Get HARD with AN OLDER MAN: Wayne Hoffman's new books
DESCRIPTION:Author Wayne Hoffman reads from his steamy new novel\, AN OLDER MAN\, about a gay man struggling to come to terms with getting older\, while he searches for love and sex in Provincetown. Jeff Mann (CUB) called the book “as much a touching examination of aging and loneliness as it is a witty tale of sexual shenanigans during Provincetown’s Bear Week.” AN OLDER MAN is a sequel to Wayne’s debut novel\, HARD\, which he will also read from at the event. \n  \nSuggested donation of $5 to benefit the Bureau.\nNo one turned away for lack of funds. \n  \n \nWayne Hoffman is the author of three books—HARD\, SWEET LIKE SUGAR (winner of the Stonewall Book Award)\, and AN OLDER MAN. His essays and short stories have appeared in such collections as BEST GAY STORIES 2010\, FRESH MEN 2\, and MAMA’S BOY. As a cultural reporter\, he has written for the Washington Post\, Village Voice\, The Nation\, Billboard\, and Instinct magazine; he is currently executive editor of Tablet magazine. He lives in the West Village and the Catskills. \n  \n 
URL:https://www.bgsqd.com/event/get-hard/
LOCATION:NY
ATTACH;FMTTYPE=image/jpeg:https://www.bgsqd.com/wp-content/uploads/2015/08/Hoffman-Older-Man-cover.jpg
END:VEVENT
END:VCALENDAR