BEGIN:VCALENDAR
VERSION:2.0
PRODID:-//BGSQD - ECPv6.15.20//NONSGML v1.0//EN
CALSCALE:GREGORIAN
METHOD:PUBLISH
X-ORIGINAL-URL:https://www.bgsqd.com
X-WR-CALDESC:Events for BGSQD
REFRESH-INTERVAL;VALUE=DURATION:PT1H
X-Robots-Tag:noindex
X-PUBLISHED-TTL:PT1H
BEGIN:VTIMEZONE
TZID:America/New_York
BEGIN:DAYLIGHT
TZOFFSETFROM:-0500
TZOFFSETTO:-0400
TZNAME:EDT
DTSTART:20140309T070000
END:DAYLIGHT
BEGIN:STANDARD
TZOFFSETFROM:-0400
TZOFFSETTO:-0500
TZNAME:EST
DTSTART:20141102T060000
END:STANDARD
BEGIN:DAYLIGHT
TZOFFSETFROM:-0500
TZOFFSETTO:-0400
TZNAME:EDT
DTSTART:20150308T070000
END:DAYLIGHT
BEGIN:STANDARD
TZOFFSETFROM:-0400
TZOFFSETTO:-0500
TZNAME:EST
DTSTART:20151101T060000
END:STANDARD
BEGIN:DAYLIGHT
TZOFFSETFROM:-0500
TZOFFSETTO:-0400
TZNAME:EDT
DTSTART:20160313T070000
END:DAYLIGHT
BEGIN:STANDARD
TZOFFSETFROM:-0400
TZOFFSETTO:-0500
TZNAME:EST
DTSTART:20161106T060000
END:STANDARD
END:VTIMEZONE
BEGIN:VEVENT
DTSTART;TZID=America/New_York:20150912T190000
DTEND;TZID=America/New_York:20150912T220000
DTSTAMP:20260425T123932
CREATED:20150808T195736Z
LAST-MODIFIED:20150811T185435Z
UID:5229-1442084400-1442095200@www.bgsqd.com
SUMMARY:Launch of Mouthquake by Daniel Allen Cox\, with Sarah Schulman
DESCRIPTION:  \nPlease join Daniel Allen Cox and Sarah Schulman for the launch of the novel Mouthquake (Arsenal Pulp Press). Both authors will read from their work. \nCopies of Mouthquake will be available for purchase. \nReception at 7\, readings at 7:30 \nSuggested donation of $5 to benefit the Bureau. No one turned away for lack of funds. \nAbout Mouthquake: Montreal\, 1979. A boy’s speech starts to fracture along with the cement of le Stade olympique. Do they share a fault line? Daniel Allen Cox’s unconventional fourth novel tells the story of a boy with a stutter who grows up and uses sound to remember the past. A coming-of-age tale that telescopes through time like an amnesiac memoir\, Mouthquake finds its strange beat in subliminal messages hidden in skipping records\, in the stutters of celebrities\, and in the wisdom of The Grand Antonio\, a suspicious mystic who helps the narrator unlock the secret to his speech. This is a loudly exclaimed book of innuendo\, rumours\, and the tangled barbs of repressed memory that asks: How do you handle a troubling past event that behaves like a barely audible whisper? Written with a poetic bravado and in a structure that mimics a stutter\, the elegiac Mouthquake is speech therapy for the bent: the signal is perverted and the sounds are thrilling. \nFrom the Afterword by Sarah Schulman: \n “Art both tells and transforms life. And it is through the juxtaposition of evocative\, surprising language with intellectual awareness and the sharing of open consciousness that this process is conveyed with soul as long as the form emerges from the emotional center of the work. Daniel finds these connections and innovations within himself\, partially through commitment\, partially through instinct. It’s that thing we call talent.” \n  \n  \nAuthor photo by Alison Slattery\nDaniel Allen Cox is the author of the novels Shuck\, Krakow Melt\, Basement of Wolves\, Mouthquake\, and the novella Tattoo This Madness In. He co-wrote the screenplay for Bruce LaBruce’s 2013 film Gerontophilia. Daniel was a 2015 writer-in-residence at the Zvona i Nari Library & Literary Retreat in Ližnjan\, Croatia. He lives in Montreal\, where he is vice president of Quebec Writers’ Federation. www.mouthquake.com  \n  \n \nSarah Schulman‘s new novel\, The Cosmopolitans\, will be published in March 2016 by The Feminist Press. Her play Roe Versus Wade\, will have a reading on Sunday\, September 13\, at 7 as part of the Howl Festival at 6 East 1st St between 2nd Avenue and Bowery\, directed by Niegel Smith. \n  \n  \nThe Bureau serves beer\, wine\, and sparkling water for cash donations. \nThe Bureau is wheelchair accessible. \nGender-neutral bathrooms are available. \n 
URL:https://www.bgsqd.com/event/launch-of-mouthquake/
LOCATION:NY
ATTACH;FMTTYPE=image/jpeg:https://www.bgsqd.com/wp-content/uploads/2015/08/MAIN-EVENT-IMAGE-Cover-of-Mouthquake-by-Daniel-Allen-Cox-178-KB.jpg
END:VEVENT
END:VCALENDAR