BEGIN:VCALENDAR
VERSION:2.0
PRODID:-//BGSQD - ECPv6.15.20//NONSGML v1.0//EN
CALSCALE:GREGORIAN
METHOD:PUBLISH
X-ORIGINAL-URL:https://www.bgsqd.com
X-WR-CALDESC:Events for BGSQD
REFRESH-INTERVAL;VALUE=DURATION:PT1H
X-Robots-Tag:noindex
X-PUBLISHED-TTL:PT1H
BEGIN:VTIMEZONE
TZID:America/New_York
BEGIN:DAYLIGHT
TZOFFSETFROM:-0500
TZOFFSETTO:-0400
TZNAME:EDT
DTSTART:20140309T070000
END:DAYLIGHT
BEGIN:STANDARD
TZOFFSETFROM:-0400
TZOFFSETTO:-0500
TZNAME:EST
DTSTART:20141102T060000
END:STANDARD
BEGIN:DAYLIGHT
TZOFFSETFROM:-0500
TZOFFSETTO:-0400
TZNAME:EDT
DTSTART:20150308T070000
END:DAYLIGHT
BEGIN:STANDARD
TZOFFSETFROM:-0400
TZOFFSETTO:-0500
TZNAME:EST
DTSTART:20151101T060000
END:STANDARD
BEGIN:DAYLIGHT
TZOFFSETFROM:-0500
TZOFFSETTO:-0400
TZNAME:EDT
DTSTART:20160313T070000
END:DAYLIGHT
BEGIN:STANDARD
TZOFFSETFROM:-0400
TZOFFSETTO:-0500
TZNAME:EST
DTSTART:20161106T060000
END:STANDARD
END:VTIMEZONE
BEGIN:VEVENT
DTSTART;TZID=America/New_York:20150908T190000
DTEND;TZID=America/New_York:20150908T210000
DTSTAMP:20260425T124002
CREATED:20150828T210614Z
LAST-MODIFIED:20150905T192351Z
UID:5261-1441738800-1441746000@www.bgsqd.com
SUMMARY:WRITE QUEER!
DESCRIPTION:  \nWrite Queer! is an ongoing open-ended weekly writing workshop for those who identify as both Queer and Writer. Come read a variety of work by queer artists\, generate new writing\, and workshop with your peers. All experience levels and writing backgrounds are welcome. \nStarting September 8th\, classes meet every Tuesday from 7pm-9pm at the Bureau of General Services—Queer Division. \nPlease note that the Bureau is closed on Tuesdays—we will open from 7 to 9 PM on Tuesdays for this event. \n$20 per class to benefit the facilitators and the Bureau. Limited sliding scale and scholarship available. Contact Cecily at sumthn.else@gmail.com for details. \n  \n  \n 
URL:https://www.bgsqd.com/event/write-queer/
LOCATION:NY
ATTACH;FMTTYPE=image/jpeg:https://www.bgsqd.com/wp-content/uploads/2015/08/write-queer-final.jpg
END:VEVENT
END:VCALENDAR