BEGIN:VCALENDAR
VERSION:2.0
PRODID:-//BGSQD - ECPv6.15.20//NONSGML v1.0//EN
CALSCALE:GREGORIAN
METHOD:PUBLISH
X-WR-CALNAME:BGSQD
X-ORIGINAL-URL:https://www.bgsqd.com
X-WR-CALDESC:Events for BGSQD
REFRESH-INTERVAL;VALUE=DURATION:PT1H
X-Robots-Tag:noindex
X-PUBLISHED-TTL:PT1H
BEGIN:VTIMEZONE
TZID:America/New_York
BEGIN:DAYLIGHT
TZOFFSETFROM:-0500
TZOFFSETTO:-0400
TZNAME:EDT
DTSTART:20120311T070000
END:DAYLIGHT
BEGIN:STANDARD
TZOFFSETFROM:-0400
TZOFFSETTO:-0500
TZNAME:EST
DTSTART:20121104T060000
END:STANDARD
BEGIN:DAYLIGHT
TZOFFSETFROM:-0500
TZOFFSETTO:-0400
TZNAME:EDT
DTSTART:20130310T070000
END:DAYLIGHT
BEGIN:STANDARD
TZOFFSETFROM:-0400
TZOFFSETTO:-0500
TZNAME:EST
DTSTART:20131103T060000
END:STANDARD
BEGIN:DAYLIGHT
TZOFFSETFROM:-0500
TZOFFSETTO:-0400
TZNAME:EDT
DTSTART:20140309T070000
END:DAYLIGHT
BEGIN:STANDARD
TZOFFSETFROM:-0400
TZOFFSETTO:-0500
TZNAME:EST
DTSTART:20141102T060000
END:STANDARD
END:VTIMEZONE
BEGIN:VEVENT
DTSTART;TZID=America/New_York:20130419T190000
DTEND;TZID=America/New_York:20130419T210000
DTSTAMP:20260421T205711
CREATED:20130330T165024Z
LAST-MODIFIED:20130419T205645Z
UID:1952-1366398000-1366405200@www.bgsqd.com
SUMMARY:Readings in Queer and Trans History by Justin Kim\, Noah Lewis\, Jerome Murphy\, & Joey Plaster
DESCRIPTION:Four New Yorkers bring queer and trans history alive by reading from primary source documents\, and discussing what they love about ‘em. Spanning social\, legal\, literary\, and art history\, the readers draw on everything from court decisions to personal correspondence. \nCome enjoy some soda\, wine\, beer\, and cheese\, and get your historical groove on. \nSuggested donation of $5 to support Sylvia’s Place emergency shelter for LGBTQ youth. No one turned away. \nJustin Kim is a painter who has exhibited primarily across the Northeast\, and has taught at Yale\, Dartmouth\, Smith\, and Deep Springs. See his work at justinkim71.blogspot.com. \nNoah Lewis is a trans rights attorney who once played poker with Justice Elena Kagan while in law school. \nJerome Murphy is a writer with an MFA from New York University\, where he is now Program Administrator of The Creative Writing Program. \nJoey Plaster is an independent public historian\, radio producer\, and journalist. He won the 2010 Allan Bérubé Prize\, and is in the American Studies Ph.D. program at Yale. \n  \nHosted by Paul VanDeCarr\, a random guy who likes to do these sorts of things. 
URL:https://www.bgsqd.com/event/readings-in-queer-and-trans-history-by-justin-kim-noah-lewis-jerome-murphy-joey-plaster/
LOCATION:Bureau of General Services–Queer Division\, 208 West 13th Street\, Room 210\, New York\, NY\, 10011\, United States
ATTACH;FMTTYPE=image/jpeg:https://www.bgsqd.com/wp-content/uploads/2013/03/queer-history-lineup.jpg
END:VEVENT
END:VCALENDAR