BEGIN:VCALENDAR
VERSION:2.0
PRODID:-//BGSQD - ECPv6.15.20//NONSGML v1.0//EN
CALSCALE:GREGORIAN
METHOD:PUBLISH
X-WR-CALNAME:BGSQD
X-ORIGINAL-URL:https://www.bgsqd.com
X-WR-CALDESC:Events for BGSQD
REFRESH-INTERVAL;VALUE=DURATION:PT1H
X-Robots-Tag:noindex
X-PUBLISHED-TTL:PT1H
BEGIN:VTIMEZONE
TZID:America/New_York
BEGIN:DAYLIGHT
TZOFFSETFROM:-0500
TZOFFSETTO:-0400
TZNAME:EDT
DTSTART:20120311T070000
END:DAYLIGHT
BEGIN:STANDARD
TZOFFSETFROM:-0400
TZOFFSETTO:-0500
TZNAME:EST
DTSTART:20121104T060000
END:STANDARD
BEGIN:DAYLIGHT
TZOFFSETFROM:-0500
TZOFFSETTO:-0400
TZNAME:EDT
DTSTART:20130310T070000
END:DAYLIGHT
BEGIN:STANDARD
TZOFFSETFROM:-0400
TZOFFSETTO:-0500
TZNAME:EST
DTSTART:20131103T060000
END:STANDARD
BEGIN:DAYLIGHT
TZOFFSETFROM:-0500
TZOFFSETTO:-0400
TZNAME:EDT
DTSTART:20140309T070000
END:DAYLIGHT
BEGIN:STANDARD
TZOFFSETFROM:-0400
TZOFFSETTO:-0500
TZNAME:EST
DTSTART:20141102T060000
END:STANDARD
END:VTIMEZONE
BEGIN:VEVENT
DTSTART;TZID=America/New_York:20130418T190000
DTEND;TZID=America/New_York:20130418T210000
DTSTAMP:20260423T195258
CREATED:20130401T174809Z
LAST-MODIFIED:20130415T200352Z
UID:1959-1366311600-1366318800@www.bgsqd.com
SUMMARY:Readings by Gil Cole and David Pratt presented by Chelsea Station Editions
DESCRIPTION:Gil Cole\, author of Fortune’s Bastard\, or Love’s Pains Recounted\, and David Pratt\, author of Bob the Book and My Movie\, read at the Bureau. Both authors will be introduced by their publisher\, Jameson Currier of Chelsea Station Editions. \nPlease note that William Sterling Walker\, originally scheduled to read\, will not be able to read at this event. \n \nSteven Mays Photography\nGil Cole graduated from the Juilliard School and acted in several plays of Shakespeare\, as well as in many classic and contemporary plays. He currently resides in New York City where he works as a psychoanalyst.  His first novel\, Fortune’s Bastard\, or Love’s Pains Recounted\, is inspired by characters from Shakespeare. \n \n\nDavid Pratt\, photo by Eva Mueller\n\nDavid Pratt won a 2011 Lambda Literary Award for his debut novel\, Bob the Book. His story collection\, My Movie\, now out from Chelsea Station Editions\, includes new work and draws on short fiction previously published in Christopher Street\, The James White Review\, Chelsea Station\, Harrington Gay Men’s Fiction Quarterly\, Velvet Mafia\, Lodestar Quarterly and in the anthologies Men Seeking Men\, His3 and Fresh Men 2. Recent anthology publications include The Dirty Diner (ed. Jerry Wheeler; Bold Strokes Books) and The Other Man (ed. Paul Alan Fahey; JMS Books). David has directed and performed his own work for the theater in New York City at the Cornelia Street Cafe\, Dixon Place\, HERE Arts Center\, the Dramatists Guild\, the Flea (as part of a workshop directed by Karen Finley)\, on WBAI-FM and in the Eighth Annual New York International Fringe Festival. His collaborations with Rogerio M. Pinto include Os Tres Porquinhos\, Chapeuzinho Vermelho\, and Branca de Neve\, Brazilian Portuguese versions of\, respectively\, The Three Little Pigs\, Little Red Riding Hood\, and Snow White. In the 1980s\, David was the first director of plays by the Canadian playwright John Mighton. David holds an MFA in Creative Writing from the New School. He is currently at work on two more novels and a young adult novella.
URL:https://www.bgsqd.com/event/readings-by-gil-cole-and-william-sterling-walker-presented-by-chelsea-station-editions/
LOCATION:NY
ATTACH;FMTTYPE=image/jpeg:https://www.bgsqd.com/wp-content/uploads/2013/04/Cole-Pratt.jpg
END:VEVENT
END:VCALENDAR